BEGIN:VCALENDAR
VERSION:2.0
PRODID:-//La Máquina Medio - ECPv6.0.1.1//NONSGML v1.0//EN
CALSCALE:GREGORIAN
METHOD:PUBLISH
X-WR-CALNAME:La Máquina Medio
X-ORIGINAL-URL:https://lamaquinamedio.com
X-WR-CALDESC:Eventos para La Máquina Medio
REFRESH-INTERVAL;VALUE=DURATION:PT1H
X-Robots-Tag:noindex
X-PUBLISHED-TTL:PT1H
BEGIN:VTIMEZONE
TZID:America/Santiago
BEGIN:STANDARD
TZOFFSETFROM:-0300
TZOFFSETTO:-0400
TZNAME:-04
DTSTART:20220403T030000
END:STANDARD
BEGIN:DAYLIGHT
TZOFFSETFROM:-0400
TZOFFSETTO:-0300
TZNAME:-03
DTSTART:20220911T040000
END:DAYLIGHT
END:VTIMEZONE
BEGIN:VEVENT
DTSTART;VALUE=DATE:20221013
DTEND;VALUE=DATE:20221106
DTSTAMP:20260422T103741
CREATED:20221023T184500Z
LAST-MODIFIED:20221109T144213Z
UID:50781-1665619200-1667692799@lamaquinamedio.com
SUMMARY:Restos
DESCRIPTION:Reseña \n¿Puede alguien amar honestamente a una persona a la que ha engañado durante 30 años? Esta es la pregunta central detrás de “Restos”\, el aclamado unipersonal de Neil LaBute en el que se introduce magistralmente al lado oscuro de la naturaleza humana\, junto a Edward Carr\, padre amoroso\, exitoso hombre de negocios\, y viudo afligido\, quien utilizará el velatorio de su difunta esposa para explorar los límites del amor. \nValores \nGeneral: $10.500 \nHorarios \nMiércoles a sábado: 20:30 hrs \nFicha artística \nDe Neil LaBute\nTraducción Camila Le Bert\nDirección Antonio Campos\nElenco Cristián Campos\nProducción ejecutiva Marcos Alvo Kalderon\nDiseño Zorra Vargas\nMúsica Arturo Zegers\nFotografías Rod Hoffmann\nCoproducción Teatro UC y The Cow Company \nCompra tu entrada ¿Aquí! \n00000
URL:https://lamaquinamedio.com/evento/restos/
LOCATION:Teatro UC
ATTACH;FMTTYPE=image/webp:https://lamaquinamedio.com/wp-content/uploads/2022/10/restos.webp
END:VEVENT
BEGIN:VEVENT
DTSTART;VALUE=DATE:20221020
DTEND;VALUE=DATE:20221106
DTSTAMP:20260422T103741
CREATED:20221023T175100Z
LAST-MODIFIED:20221109T144146Z
UID:50764-1666224000-1667692799@lamaquinamedio.com
SUMMARY:Bajo terapia
DESCRIPTION:Reseña \nTres parejas acuden a terapia con la intención de tratar sus conflictos pero se encontrarán con una sesión más intensa de la esperada. La psicóloga dejó sobres con consignas que las parejas tendrán que abordar y analizar entre todos. Cada sobre que se abre propone nuevos e ingeniosos interrogantes transformando la sesión en un caos desopilante.\nBajo terapia es una obra llena de conflictos inesperados\, con el humor como herramienta principal y en donde nada es lo que parece. \nValores \nGeneral: $16.800 \nHorarios \nDe jueves a sábado: 20.30 hrs\nDomingo: 20.00 hrs \nFicha artística \nAutor: Matias del Federico\nDirección: Christian Villarreal\nProducción: Christian Villarreal \nElenco:\nRolando Valenzuela\, Verónica González\, Ramon Farias\, Monica Aguirre\, Felix Villar\, Carolina Carrasco \nCompra tu entrada ¿Aquí! \n\n\n  \n\n\n00000
URL:https://lamaquinamedio.com/evento/bajo-terapia/
LOCATION:Mori Vitacura\, Av. Bicentenario 3800. Vitacura
ATTACH;FMTTYPE=image/jpeg:https://lamaquinamedio.com/wp-content/uploads/2022/10/bajo-terapia.jpg
END:VEVENT
BEGIN:VEVENT
DTSTART;VALUE=DATE:20221020
DTEND;VALUE=DATE:20221114
DTSTAMP:20260422T103741
CREATED:20221023T191355Z
LAST-MODIFIED:20221024T141507Z
UID:50791-1666224000-1668383999@lamaquinamedio.com
SUMMARY:HE NACIDO PARA VERTE SONREÍR
DESCRIPTION:Reseña \nUna madre se despide de su hijo\, mientras esperan al padre que vendrá a buscarlos; enseguida partirán para un viaje largo\, aunque de alguna manera el hijo ya se fue hace tiempo. Será internado para que se cure de su trastorno mental. \nUnión íntima y desesperada de dos seres que se profesan el mayor amor del mundo y que\, al mismo tiempo\, sufren por no poder expresarlo en la misma forma\, en la misma frecuencia\, con los mismos acordes\, con las mismas notas\, y en el mismo tiempo. \nLa obra transcurre entre la melancolía y la tristeza\, pero muestra un humor secreto\, un humor necesario para soportar tanto dolor y poner distancia.\nHe nacido para verte sonreír es una obra lacerante\, profunda y de gran carga poética sobre las formas de locura y el enigma que cada personaje guarda. \nValores \nGeneral: $12.000\nAdulto mayor: $7.800\nEstudiante: $6.000 \nHorarios \nJueves a sábado: 20:30 hrs\nDomingo: 19:00 hrs \nFicha artística \nDe Santiago Loza\nDirección Paulo Brunetti\nElenco Blanca Lewin y Bernabé Madrigal\nDiseño integral Ramón López\nAsistente de dirección Francisca Trobok\nAsistente de producción Francisco Silva Luco\nVestuario Nicanor Bravo\nDiseño gráfico Leandro M. Correa\nImágenes Roberto Díaz\nFotografía Andrés Cánepa\nProducción ejecutiva Paulo Brunetti\nUna producción SurMedia y Zero films \nCompra tu entrada ¿Aquí! \n  \n00000
URL:https://lamaquinamedio.com/evento/he-nacido-para-verte-sonreir/
LOCATION:Teatro Finis Terrae
CATEGORIES:Carousel de Eventos,Categoria 1
ATTACH;FMTTYPE=image/webp:https://lamaquinamedio.com/wp-content/uploads/2022/10/f3d2a43fc92b245a53eb-Portada_Ticketplus_1200_x_630_HE_NACIDO.webp
END:VEVENT
BEGIN:VEVENT
DTSTART;VALUE=DATE:20221023
DTEND;VALUE=DATE:20221114
DTSTAMP:20260422T103741
CREATED:20221023T181152Z
LAST-MODIFIED:20221024T141443Z
UID:50768-1666483200-1668383999@lamaquinamedio.com
SUMMARY:Kaori
DESCRIPTION:Compañía \nEn el año 2005 nace la compañía TEATROCINEMA cuando sus fundadores\,\nLaura Pizarro y Zagal\, junto a un colectivo artístico multidisciplinario se embarcan en la experimentación e investigación de mezclar\, fusionar\, fundir (y confundir) elementos esenciales del teatro\, el cine\, la fotografía\, el cómic\, la animación tanto 2D como 3D\, la literatura\, la composición musical y la acción en vivo sobre el escenario. \nReseña \nKaori es una niña que se forma en el oficio de ceramista guiada por su abuelo Yamato en una zona rural de Japón. Un día\, empiezan a aparecer unos polvos dorados que tienen vida propia y se transforman en distintas figuras. Sólo ella y su hermano pájaro\, Kui\, pueden verlos. \nAl ritmo de las estaciones\, los hermanos comienzan una aventura para comprender la presencia de las partículas de oro y logran descubrir el misterio gracias a las enseñanzas del abuelo con la cerámica y un arte ancestral: el kintsugi. \nValores \nGeneral: $7.000\nPersonas mayores: $5.000\nNiñas\, niños y estudiantes: $3.500 \nHorarios \nJueves: 19.30 hrs\nSábado y Domingo: 16.30 y 18.30 hrs \nFicha artística \nIdea original y guión Teatrocinema: Christian Aguilera\, Esteban Cerda\, Daniel Gallo y Julián Marras | Dirección general y elenco: Christian Aguilera\, Daniel Gallo y Julián Marras\nAsistencia de dirección: Laura Pizarro y Juan Carlos Zagal\nComposición e interpretación musical: Juan Carlos Zagal\nDirección de arte\, storyboard e ilustraciones: Vittorio Meschi\nAnimación digital: Francisco Vargas “Shhipp”\nDirección multimedia: Julián Marras\nDiseño y operación de iluminación: Luis Alcaide\nDiseño y operación de sonido: Alonso Orrego “Alonsonido”\nOperador de Video: Lucio González\nDiseño de Vestuario: Mónica Navarro\nConfección de Vestuario: Catalina Mosqueira\nDiseño y confección de máscaras: Cristián Mayorga\nRealización de Utilerías: Teatrocinema\nAsistencia de producción y logística: Natalia Rounza y Lucio González\nAsesoría multimedia: Pablo Mois\nProducción general: Teatrocinema \nCompra tu entrada ¿Aquí! \n  \n00000
URL:https://lamaquinamedio.com/evento/kaori/
LOCATION:GAM
CATEGORIES:Carousel de Eventos,Categoria 2
ATTACH;FMTTYPE=image/jpeg:https://lamaquinamedio.com/wp-content/uploads/2022/10/kaori.jpg
END:VEVENT
BEGIN:VEVENT
DTSTART;VALUE=DATE:20221026
DTEND;VALUE=DATE:20221106
DTSTAMP:20260422T103741
CREATED:20221023T190027Z
LAST-MODIFIED:20221109T144116Z
UID:50786-1666742400-1667692799@lamaquinamedio.com
SUMMARY:Pedro de Valdivia: La gesta inconclusa
DESCRIPTION:Compañía \nTryo Teatro Banda es una compañía teatral independiente e itinerante que nació en Santiago de Chile en el año 2000 con tres propósitos fundamentales: crear montajes de autores y/o temáticas chilenas\, itinerar a lugares alejados de los circuitos artísticos y combinar las artes de la actuación con la literatura y la música original en vivo. En el camino sumamos otros principios; definimos que los estudiantes y el público familiar son importantísimas audiencias objetivas para nosotros; y nos propusimos trabajar dramatúrgicamente con episodios antiguos y fundacionales de la historia de Chile y América\, bajo una exhaustiva investigación sobre los orígenes de nuestra identidad mestiza. \nReseña \nVibrante y premiado espectáculo juglaresco\, que recorre los primeros años de la conquista de Chile\, desde la llegada del capitán español Pedro de Valdivia a nuestro país hasta su muerte en 1.553\, tomando como hilo conductor las cartas que el conquistador español envió al rey de España Carlos V. \nTres actores músicos nos cuentan las enormes dificultades que tuvo que afrontar el conquistador\, dotado de una gran capacidad militar\, en su intento de someter al pueblo nativo mapuche\, y cómo la ambición le impidió reconocer su valor e inteligencia\, llevándolo a cometer el único y fatal error táctico de su vida. Con más de 20 instrumentos musicales en escena\, esta obra logra una perfecta sincronía entre música y teatro. \nValores \nGeneral: $10.500 \nHorarios \nMiércoles a sábado: 20:00 hrs \nFicha artística \nDirección Sebastián Vila\nDramaturgia e investigación Francisco Sánchez\nElenco Francisco Sánchez\, Alfredo Becerra y Diego Chamorro\nMúsica Tryo Teatro Banda\nDiseño Carola De Negri\nProducción Carolina González \nCompra tu entrada ¿Aquí! \n00000
URL:https://lamaquinamedio.com/evento/pedro-de-valdivia-la-gesta-inconclusa/
LOCATION:Teatro UC
ATTACH;FMTTYPE=image/webp:https://lamaquinamedio.com/wp-content/uploads/2022/10/b992b049819d86ce6507-Imagenes-Ticketplus-Pedro_de_Valdivia2.webp
END:VEVENT
BEGIN:VEVENT
DTSTART;VALUE=DATE:20221027
DTEND;VALUE=DATE:20221106
DTSTAMP:20260422T103741
CREATED:20221103T170853Z
LAST-MODIFIED:20221103T170853Z
UID:50954-1666828800-1667692799@lamaquinamedio.com
SUMMARY:LA SAGRADA
DESCRIPTION:Reseña \n“La Sagrada” ocurre en un convento\, el cual\, en un pasado más bien lejano y probablemente más prometedor\, era habitado por una congregación de doce monjas. En la actualidad\, luego de un fatídico accidente\, sólo quedan tres de ellas\, las hermanas Agnes\, Andrea e Irene. Debido a esto el consejo de la iglesia decide enviar a un clérigo para reorganizar el convento y darle otra finalidad\, pero por sobre todo supervisar la conducta de estas particulares monjas. Las religiosas\, no acostumbradas a relacionarse con el exterior y menos a recibir órdenes de un tercero\, frente a la amenazante llegada de este extraño\, comienzan a unirse por un interés común: mantener su núcleo intacto y eliminar a este nuevo invasor. Estas tres mujeres\, por instinto y casi sin saberlo\, comienzan a gestar una revolución desde su convento\, perteneciente a una de las instituciones que más ha vulnerado sus derechos a lo largo de la historia”. \nValores \nGeneral $6.300\nEstudiantes y Tercera Edad $4.200 \nHorarios \nJueves: 19:30 hrs\nViernes: 19:30 hrs\nSábado: 19:30 hrs \nFicha artística \nDirección y dramaturgia: Nicolás González Burgos\nAsistencia de Dirección: Sara Marambio Cabeza.\nElenco: Javiera Barrientos Gajardo\, Pablo Čančar Cabello\, Magdalena Llanos Verdugo\, Maite Pino Ortiz y Kevin Yévenes Ibáñez.\nDiseño Sonoro: Octavio O´Shee Squicciarini\nDiseño Integral: Jhonn Álvarez Esparza\nAsesora de Iluminación: Andrea Soto Hernández.\nRealización de vestuario: Elizabeth Pérez Neira y Sara Marambio Cabeza\nRealización de Escenografía: Cia Gato Chino\nProducción: Sara Marambio Cabeza.\nAsistencia de producción: Javiera Barrientos Gajardo. \nCompra tu entrada ¿Aquí! \n00000
URL:https://lamaquinamedio.com/evento/la-sagrada/
LOCATION:Sala de Teatro de la Universidad Mayor\, Santo Domingo 711\, Santiago\, Chile
CATEGORIES:Carousel de Eventos,Categoria 2
ATTACH;FMTTYPE=image/jpeg:https://lamaquinamedio.com/wp-content/uploads/2022/11/la-sagrada.jpg
END:VEVENT
BEGIN:VEVENT
DTSTART;VALUE=DATE:20221102
DTEND;VALUE=DATE:20221104
DTSTAMP:20260422T103741
CREATED:20221103T184046Z
LAST-MODIFIED:20221109T144041Z
UID:50977-1667347200-1667519999@lamaquinamedio.com
SUMMARY:La Reminiscencia del hombre que parecía un ciervo
DESCRIPTION:Compañía La Bóveda Celeste \nReseña \nMontaje teatral escrito y dirigido por José Antonio Luer que se inspira en la investigación realizada el año 2018 por el periodista Cristián Pérez “Viaje a las estepas” visibilizando un evento histórico a penas perceptible que tuvo lugar en Chile durante el contexto del golpe de Estado. El día Martes 4 de septiembre de 1973 un grupo de casi cien campesinos que promediaba los veinte años\, se encontraron en el aeropuerto Pudahuel para emprender un viaje de tres años que tenía como propósito instruirles en la tecnología de la maquinaria agrícola\, para volver el año 76 e incorporarse a la producción nacional y terminar con el desabastecimiento de productos del campo\, algo muy necesario en ese entonces\, lo cual se vio truncado por el Golpe de Estado\, dejando a la deriva a los jóvenes campesinos en plena Guerra Fría\, evidenciando en sus cuerpos la ausencia\, la lejanía y la intensidad de un conflicto que se proyectó hasta finales de la década de los ochenta\, siendo el retorno de algunos de ellos una fractura con el país que dejaron en su infancia\, en donde muchos se debieron insertar en el sistema neoliberal. \nLa obra pretende mirar Chile a partir de este antecedente histórico\, posibilitando una reflexión en torno a cómo los sistemas neoliberales nos han desterrado de nuestros derechos fundamentales en el acto de la instrumentalización y la producción capitalista. El monólogo encarnado por el actor George Casanova\, toma como eje poético la hipótesis del cazador\, la cual sugiere que la evolución humana fue influida por la actividad de cazar animales grandes y rápidos\, de esta manera se abre el campo de constelación a nuestras identidades\, preguntándonos cuál es ese cazador que está sobre nosotrxs vigilante y cómo este atenta contra nuestras libertades. \nMontaje contemporáneo que mezcla diferentes recursos estéticos y tecnológicos\, vinculando teatro\, poesía\, filosofía y documento en un espectáculo escénico. La obra funciona a modo de fragmentos en un argumento ficcionado que presenta a un guardia de seguridad que fue uno de esos campesinos que emprendió el viaje a la estepa rusa\, y que hoy irónicamente trabaja en un Mall en la ciudad de Santiago. \nValores \nEvento Gratuito \nHorarios \nMiércoles y Jueves: 19:00 hrs \nFicha artística \nFicha artística\nInterprete: George Casanova Ortega\nDirección y dramaturgia: José Antonio Luer\nAsistencia de Dirección: Laura Toledo\nProducción general: Daniel Silva\nAsistente de producción Jenny Cortés\nDiseño Escenográfico Diego Guzmán y Diego Rivera\nIluminador y multimedia Diego Guzmán\nAudiovisual Juan Manuel Sáez\nFotografía Fredy Ojeda\nDirección de arte y Fotografía José Antonio Luer\nDiseño Sonoro y técnica Andrés Acevedo \n  \n00000
URL:https://lamaquinamedio.com/evento/la-reminiscencia-del-hombre-que-parecia-un-ciervo/
ATTACH;FMTTYPE=image/jpeg:https://lamaquinamedio.com/wp-content/uploads/2022/11/Sesión-de-estudio-214-scaled.jpg
END:VEVENT
END:VCALENDAR