BEGIN:VCALENDAR
VERSION:2.0
PRODID:-//La Máquina Medio - ECPv6.0.1.1//NONSGML v1.0//EN
CALSCALE:GREGORIAN
METHOD:PUBLISH
X-WR-CALNAME:La Máquina Medio
X-ORIGINAL-URL:https://lamaquinamedio.com
X-WR-CALDESC:Eventos para La Máquina Medio
REFRESH-INTERVAL;VALUE=DURATION:PT1H
X-Robots-Tag:noindex
X-PUBLISHED-TTL:PT1H
BEGIN:VTIMEZONE
TZID:America/Santiago
BEGIN:STANDARD
TZOFFSETFROM:-0300
TZOFFSETTO:-0400
TZNAME:-04
DTSTART:20220403T030000
END:STANDARD
BEGIN:DAYLIGHT
TZOFFSETFROM:-0400
TZOFFSETTO:-0300
TZNAME:-03
DTSTART:20220911T040000
END:DAYLIGHT
END:VTIMEZONE
BEGIN:VEVENT
DTSTART;VALUE=DATE:20221006
DTEND;VALUE=DATE:20221031
DTSTAMP:20260422T121519
CREATED:20221023T162853Z
LAST-MODIFIED:20221109T144313Z
UID:50742-1665014400-1667174399@lamaquinamedio.com
SUMMARY:ATTE REINO FUNGI
DESCRIPTION:Compañía \nLa compañía es reciente y se reúne para realizar este trabajo. Mujeres profesionales de distintas áreas nos agrupamos para dar forma a un proyecto que reflexiona sobre la muerte\, la vida y la relación con nuestro devenir mujeres. Unidas por la pregunta sobre la muerte en medio de la Pandemia mundial del Covid-19 y con el interés de vincular arte y ciencia\, creamos nuestra obra combinando teatro\, audiovisualidad\, tecnología sonora\, antropología y micología. \nCada integrante ha aportado desde su quehacer y especialidad potenciando el trabajo en grupo\, la creación autoral y la creatividad como mujeres artistas. Nos interesa desarrollar investigaciones escénicas que dialoguen con el presente atendiendo el territorio en que vivimos y aportar al acceso a manifestaciones artísticas en nuestro país\, contribuyendo a la construcción dinámica de comunidad. “Atte. Reino Fungi” busca instalar en distintos circuitos la pregunta por la vida\, la realidad de la mujer y la creación artística. \nReseña \nUna mujer muere sola en un bosque. Pero en un bosque no se está sola. Eso dicen y eso sucede en Atte Reino Fungi. Un grupo de hongos se encuentran con su cuerpo y -a diferencia del Reino Animalia- la nombran muerta. Imaginan el por qué de su muerte y reflexionan del por qué de su vida. De esta forma Atte Reino Fungi es el diario de vida que escribe el Reino de los hongos mientras descompone el cuerpo de una mujer que bautizan como Blancanieves. La obra teatral es una re escritura del clásico relato infantil que se desenvuelve como un cuento para adultos. \nValores \nGeneral: 6.000\nEstudiante y Tercera edad: $3.000 \nHorarios \nJueves a sábado: 21:00 hrs.\nDomingo: 20:00 hrs. \nFicha Artística  \nDirectora y Productora: Sofía Zagal\nDiseño Integral: Gabriela González\nDramaturga y Actriz: María Paz González\nElenco: Ignacia Agüero y Paula Pavez\nMúsico: Rael Valencia\nDiseño Sonoro: Ximena Sánchez. \n  \nCompra de entradas ¿Aquí! \n00000
URL:https://lamaquinamedio.com/evento/atte-reino-fungi/
LOCATION:M100\, Matucana\, 100\, Chile
ATTACH;FMTTYPE=image/jpeg:https://lamaquinamedio.com/wp-content/uploads/2022/10/ATTE-REINO-FUNGI.jpg
END:VEVENT
BEGIN:VEVENT
DTSTART;VALUE=DATE:20221007
DTEND;VALUE=DATE:20221030
DTSTAMP:20260422T121519
CREATED:20221023T170916Z
LAST-MODIFIED:20221109T144254Z
UID:50755-1665100800-1667087999@lamaquinamedio.com
SUMMARY:La madre de Eva
DESCRIPTION:Reseña \nLa madre de Eva» es un monólogo que muestra el proceso que vive una madre en la transición de su hijo Alejandro. Es un diálogo sin respuestas entre una madre y su hije en el que fluye el sentido mismo de la vida. Una obra que invita al silencio y a la aceptación frente a preguntas universales: ¿Qué pasa cuando no conseguimos reconocer y por tanto aceptar al otrx? ¿Hasta dónde puede llegar el amor? \nValores \nEntrada general $8.000 \nHorarios \nJueves a sábado: 20.30 hrs \nFicha artística \nDramaturgia: Adaptación al teatro de Heidrun María Breier\, de la novela homónima de Silvia Ferreri. Dirección: Heidrun María Breier Funk\nElenco: Maritza Farías Cerpa \n  \nCompra de entradas ¿Aquí! \n00000
URL:https://lamaquinamedio.com/evento/la-madre-de-eva/
LOCATION:Mori Bellavista\, Constitución 183. Providencia
ATTACH;FMTTYPE=image/jpeg:https://lamaquinamedio.com/wp-content/uploads/2022/10/000.jpg
END:VEVENT
BEGIN:VEVENT
DTSTART;VALUE=DATE:20221013
DTEND;VALUE=DATE:20221031
DTSTAMP:20260422T121519
CREATED:20221023T164316Z
LAST-MODIFIED:20221109T144224Z
UID:50745-1665619200-1667174399@lamaquinamedio.com
SUMMARY:Acciones inconclusas
DESCRIPTION:Teatro \nLa directora y las actrices son mujeres con vasta experiencia en el trabajo actoral y quienes han coincidido previamente en grupos creativos. Esta mirada\, a su vez familar y afín\, será la guía de navegación que construya el lenguaje escénico y que logre cimentar – a través de la experiencia del oficio – la crisis y el terror del encierro. \nReseña \n“Acciones Inconclusas” une tres monólogos escritos por dos dramaturgas y un dramaturgo en donde las actrices se hacen cargo de un relato coral sobre el encierro\, pero compartiendo una misma identidad. Cada una de ellas responde al nombre Soledad Escobar\, pero habitan distintos territorios y tiempos históricos en una profunda reflexión de cómo sus nombres y lo que significa afecta sus vidas. Tres mujeres llamadas Soledad Escobar se encuentran en un espacio que funde sus historias\, dando paso a un relato que superpone y confunde sus voces\, cuerpos y reflexiones\, como si todos los seres humanos tuviéramos réplicas de nosotros mismos en algún tiempo y lugar distinto al que habitamos. \nPrecios \nGeneral: $6.000\nEstudiantes y tercera edad: $3.000\nMiércoles y jueves popular: $3.000 \nHorarios \nJueves a sábado: 20:00 hrs.\nDomingo: 19:00 hrs. \nFicha artística \nDirectora General: Andrea García-Huidobro y Alexandra Von Hummel\nElenco: Alejandra Oviedo\, Alexandra Von Hummel y Andrea García-Huidobro\nDramaturgo/a: Isidora Stevenson\, Carla Zúñiga\, Bosco Cayo\nDiseñadora Teatral: Laurene Lemaitre. \nCompra de entradas ¿Aquí! \n00000
URL:https://lamaquinamedio.com/evento/acciones-inconclusas/
ATTACH;FMTTYPE=image/jpeg:https://lamaquinamedio.com/wp-content/uploads/2022/10/Acciones-Inconclusas-copia.jpg
END:VEVENT
BEGIN:VEVENT
DTSTART;VALUE=DATE:20221013
DTEND;VALUE=DATE:20221106
DTSTAMP:20260422T121519
CREATED:20221023T184500Z
LAST-MODIFIED:20221109T144213Z
UID:50781-1665619200-1667692799@lamaquinamedio.com
SUMMARY:Restos
DESCRIPTION:Reseña \n¿Puede alguien amar honestamente a una persona a la que ha engañado durante 30 años? Esta es la pregunta central detrás de “Restos”\, el aclamado unipersonal de Neil LaBute en el que se introduce magistralmente al lado oscuro de la naturaleza humana\, junto a Edward Carr\, padre amoroso\, exitoso hombre de negocios\, y viudo afligido\, quien utilizará el velatorio de su difunta esposa para explorar los límites del amor. \nValores \nGeneral: $10.500 \nHorarios \nMiércoles a sábado: 20:30 hrs \nFicha artística \nDe Neil LaBute\nTraducción Camila Le Bert\nDirección Antonio Campos\nElenco Cristián Campos\nProducción ejecutiva Marcos Alvo Kalderon\nDiseño Zorra Vargas\nMúsica Arturo Zegers\nFotografías Rod Hoffmann\nCoproducción Teatro UC y The Cow Company \nCompra tu entrada ¿Aquí! \n00000
URL:https://lamaquinamedio.com/evento/restos/
LOCATION:Teatro UC
ATTACH;FMTTYPE=image/webp:https://lamaquinamedio.com/wp-content/uploads/2022/10/restos.webp
END:VEVENT
BEGIN:VEVENT
DTSTART;VALUE=DATE:20221014
DTEND;VALUE=DATE:20221031
DTSTAMP:20260422T121519
CREATED:20221023T172521Z
LAST-MODIFIED:20221024T141532Z
UID:50760-1665705600-1667174399@lamaquinamedio.com
SUMMARY:Volver al lugar donde asesinaron a mi madre
DESCRIPTION:Reseña \nVolver al lugar donde asesinaron a mi madre cuenta la historia de Diana\, una prostituta que\, después de muchos años\, regresa junto a sus amigas y amantes a la funeraria en que asesinaron a su madre en extrañas circunstancias. Ahí revivirá antiguos dolores y heridas\, que la harán enfrentarse a las memorias del abuso sexual en los secretos familiares. familiares. A partir de esto\, indagaremos en la profundidad del vínculo madre e hija\, el transodio\, la venganza\, el moralismo y la traición entre mujeres. En el proceso creativo se exploró en la bestialidad y el retorno a la animalidad\, en diálogo con la tragedia “Las Bacantes” de Eurípides. \nValores \nGeneral: $11.200 \nHorarios \nViernes y sábado: 20.30 hrs\nDomingo: 20.00 hrs \nFicha artística \nAutora: Carla Zúñiga\nDirectora: Cheril Linett\nCompañía: Bestia Lúbrica\nDiseño integral: Tamara Figueroa\nDiseño sonoro: Vicente Cuadros\nOperación Iluminación: Isabelle Lastra\nDiseño y Realización de Vestuario/Maquillaje: Pedro Gramegna y Andrea Bustos\nProducción: Daniela Moraga y Cìa Bestia Lùbrica\nDuración: 75 minutos \nEdad recomendada: + 14 \nElenco \nEsperanza Vega\, Paulina Valdenegro\, Romina Bustos\, Lorenza Quezada Mendoza\, Ivón Figueroa Taucán\, Fernanda Castex\, Gabriela Gazmuri\, María Victoria Ponce\, LaMala\, Fernanda Vargas\, Irina Gallardo Baez\, María Julia Avendaño\, Valentina Nuñez Candia \nCompra tu entrada ¿Aquí! \n00000
URL:https://lamaquinamedio.com/evento/volver-al-lugar-donde-asesinaron-a-mi-madre/
LOCATION:Mori Recoleta\, Bellavista 77. Recoleta
CATEGORIES:Carousel de Eventos,Categoria 1
ATTACH;FMTTYPE=image/jpeg:https://lamaquinamedio.com/wp-content/uploads/2022/10/volver-al-lugar.jpg
END:VEVENT
BEGIN:VEVENT
DTSTART;VALUE=DATE:20221020
DTEND;VALUE=DATE:20221031
DTSTAMP:20260422T121519
CREATED:20221023T183307Z
LAST-MODIFIED:20221109T144159Z
UID:50777-1666224000-1667174399@lamaquinamedio.com
SUMMARY:Atlantium: El país que no quería dejar de serlo
DESCRIPTION:Reseña \nUn australiano (Mario Ocampo) funda un país dentro de su propia casa y\, desde entonces\, se hace llamar “Emperador”. Tras años de invitar a líderes mundiales\, sin nunca tener respuesta\, el Imperio de Atlantium por fin recibe su primera visita oficial: la Canciller de Australia (Anita Reeves). Para su desgracia\, ella viene con un ultimátum del gobierno: o baja la bandera o irá a la cárcel. Arrinconado\, el Emperador y su multi-ministro (José Antonio Raffo) intentan algo tan desesperado que podría -incluso- provocar una guerra. Todo sea para que su país no deje de serlo. \nValores \nGeneral: $6.000\nPersonas mayores: $4.000\nEstudiantes $3.000 \nHorarios \nJueves a Domingo: 20:00 hrs \nFicha artística \nDirector y dramaturgo: Pablo Greene\nElenco: Mario Ocampo\, Ana Reeves y José Antonio Raffo.\nAsistente de dirección: Vicente Almuna\nDiseño de escenografía e iluminación: Juan Anania\nDiseño de vestuario: Paula Arriagada\nMúsica: Abel Zicavo y Camilo Zicavo\nProductora y encargada de difusión y prensa: Francisca Babul\nJefe técnico: Javier Pavez\nDiseño gráfico: Ignacio Pimentel\nAnimaciones: Eloísa Nieto\nFotografías: Dai Liv y Maglio Pérez \n  \nCompra tu entrada ¿Aquí! \n00000
URL:https://lamaquinamedio.com/evento/atlantium-el-pais-que-no-queria-dejar-de-serlo/
LOCATION:GAM
ATTACH;FMTTYPE=image/jpeg:https://lamaquinamedio.com/wp-content/uploads/2022/10/atlantium5_AfYXGXQ.2e16d0ba.fill-694x463-1.jpg
END:VEVENT
BEGIN:VEVENT
DTSTART;VALUE=DATE:20221020
DTEND;VALUE=DATE:20221106
DTSTAMP:20260422T121519
CREATED:20221023T175100Z
LAST-MODIFIED:20221109T144146Z
UID:50764-1666224000-1667692799@lamaquinamedio.com
SUMMARY:Bajo terapia
DESCRIPTION:Reseña \nTres parejas acuden a terapia con la intención de tratar sus conflictos pero se encontrarán con una sesión más intensa de la esperada. La psicóloga dejó sobres con consignas que las parejas tendrán que abordar y analizar entre todos. Cada sobre que se abre propone nuevos e ingeniosos interrogantes transformando la sesión en un caos desopilante.\nBajo terapia es una obra llena de conflictos inesperados\, con el humor como herramienta principal y en donde nada es lo que parece. \nValores \nGeneral: $16.800 \nHorarios \nDe jueves a sábado: 20.30 hrs\nDomingo: 20.00 hrs \nFicha artística \nAutor: Matias del Federico\nDirección: Christian Villarreal\nProducción: Christian Villarreal \nElenco:\nRolando Valenzuela\, Verónica González\, Ramon Farias\, Monica Aguirre\, Felix Villar\, Carolina Carrasco \nCompra tu entrada ¿Aquí! \n\n\n  \n\n\n00000
URL:https://lamaquinamedio.com/evento/bajo-terapia/
LOCATION:Mori Vitacura\, Av. Bicentenario 3800. Vitacura
ATTACH;FMTTYPE=image/jpeg:https://lamaquinamedio.com/wp-content/uploads/2022/10/bajo-terapia.jpg
END:VEVENT
BEGIN:VEVENT
DTSTART;VALUE=DATE:20221020
DTEND;VALUE=DATE:20221114
DTSTAMP:20260422T121519
CREATED:20221023T191355Z
LAST-MODIFIED:20221024T141507Z
UID:50791-1666224000-1668383999@lamaquinamedio.com
SUMMARY:HE NACIDO PARA VERTE SONREÍR
DESCRIPTION:Reseña \nUna madre se despide de su hijo\, mientras esperan al padre que vendrá a buscarlos; enseguida partirán para un viaje largo\, aunque de alguna manera el hijo ya se fue hace tiempo. Será internado para que se cure de su trastorno mental. \nUnión íntima y desesperada de dos seres que se profesan el mayor amor del mundo y que\, al mismo tiempo\, sufren por no poder expresarlo en la misma forma\, en la misma frecuencia\, con los mismos acordes\, con las mismas notas\, y en el mismo tiempo. \nLa obra transcurre entre la melancolía y la tristeza\, pero muestra un humor secreto\, un humor necesario para soportar tanto dolor y poner distancia.\nHe nacido para verte sonreír es una obra lacerante\, profunda y de gran carga poética sobre las formas de locura y el enigma que cada personaje guarda. \nValores \nGeneral: $12.000\nAdulto mayor: $7.800\nEstudiante: $6.000 \nHorarios \nJueves a sábado: 20:30 hrs\nDomingo: 19:00 hrs \nFicha artística \nDe Santiago Loza\nDirección Paulo Brunetti\nElenco Blanca Lewin y Bernabé Madrigal\nDiseño integral Ramón López\nAsistente de dirección Francisca Trobok\nAsistente de producción Francisco Silva Luco\nVestuario Nicanor Bravo\nDiseño gráfico Leandro M. Correa\nImágenes Roberto Díaz\nFotografía Andrés Cánepa\nProducción ejecutiva Paulo Brunetti\nUna producción SurMedia y Zero films \nCompra tu entrada ¿Aquí! \n  \n00000
URL:https://lamaquinamedio.com/evento/he-nacido-para-verte-sonreir/
LOCATION:Teatro Finis Terrae
CATEGORIES:Carousel de Eventos,Categoria 1
ATTACH;FMTTYPE=image/webp:https://lamaquinamedio.com/wp-content/uploads/2022/10/f3d2a43fc92b245a53eb-Portada_Ticketplus_1200_x_630_HE_NACIDO.webp
END:VEVENT
BEGIN:VEVENT
DTSTART;VALUE=DATE:20221021
DTEND;VALUE=DATE:20221031
DTSTAMP:20260422T121519
CREATED:20221013T130228Z
LAST-MODIFIED:20221109T144134Z
UID:50619-1666310400-1667174399@lamaquinamedio.com
SUMMARY:Por la boca muere el Pez
DESCRIPTION:Teatro \nLa colectiva teatral La Jauría se propone trabajar en torno a la problemática climática relacionada con el agua\, la cual ha traído consecuencias en variados pueblos a lo largo de Chile tras la utilización de esta materia prima por parte de empresas privadas. \nEl montaje se construye a partir de un flujo de escenas que se adentran en problemáticas en torno al agua de distintos poblados\, llamados Tierra de Nadie\, todos amenazados desde la mirada del poder\, el cual donde ve que existe un territorio\, ve recursos naturales\, y donde ve que hay personas\, ve recursos humanos. Siguiendo el curso del río\, la obra se presenta en 3 episodios: Glaciares\, Río y Mar\, buscando poner en tensión la relación agua-sociedad en Chile desde una perspectiva feminista. \nReseña: \nCinco personajes nos transportan a lo que puede ser nuestro territorio si la crisis del agua sigue su cauce. Bajo la interrogante respecto de las causas\, Por la boca muere el pez nos hace adentrarnos en un futuro distópico y nos lleva a revisitar situaciones del pasado y nuestro presente vinculadas al saqueo del agua. Un cruce de ficción\, testimonios y documentos que a partir de una estructura fragmentada muestra los afectos y necesidades comunitarias vitales vinculadas al agua\, explicando la crisis hídrica que se ha ido alimentando en nuestro país y problematizando las bases neoliberales e institucionales que la sustentan. ¿Es el pez quien sentencia su propia muerte? ¿Por la boca muere o matan al pez? \nPrecios: \nEstudiantes y Tercera edad $4.000\nEntrada general $6.000.\n \nHorarios: \nMiércoles a Domingo de las 20:00 hrs a las 21:00 hrs \nFicha Artística: \nDirección: Fernanda Carvajal Rojas y Karen Muñoz Vargas\nDramaturgia: Colectiva La Jauría\nElenco: Alison Cambell Quintana\, Catalina Latorre Melo\, Valentina Mora Martínez\, Nicole Quezada Jara y Nicole Vidal Vidal.\nProducción: Catalina Latorre Melo y Valentina Mora\nDiseño de escenografía e iluminación: Gloria Allende Cortés\nDiseño de vestuario: Colectiva La Jauría y Gloria Allende Cortés\nDiseño sonoro: Rodrigo Vera Araya\nDiseño audiovisual: Daniela Carvajal Rojas\nDiseño Afiche: Andrea Salazar \n  \nCompra de entradas ¡Aquí! \n00000
URL:https://lamaquinamedio.com/evento/por-la-boca-muere-el-pez/
LOCATION:Teatro del Puente\, Río Mapocho\, Santiago\, Región Metropolitana
ATTACH;FMTTYPE=image/jpeg:https://lamaquinamedio.com/wp-content/uploads/2022/10/311814743_466467971963777_3608064762198895643_n.jpg
END:VEVENT
BEGIN:VEVENT
DTSTART;VALUE=DATE:20221023
DTEND;VALUE=DATE:20221114
DTSTAMP:20260422T121519
CREATED:20221023T181152Z
LAST-MODIFIED:20221024T141443Z
UID:50768-1666483200-1668383999@lamaquinamedio.com
SUMMARY:Kaori
DESCRIPTION:Compañía \nEn el año 2005 nace la compañía TEATROCINEMA cuando sus fundadores\,\nLaura Pizarro y Zagal\, junto a un colectivo artístico multidisciplinario se embarcan en la experimentación e investigación de mezclar\, fusionar\, fundir (y confundir) elementos esenciales del teatro\, el cine\, la fotografía\, el cómic\, la animación tanto 2D como 3D\, la literatura\, la composición musical y la acción en vivo sobre el escenario. \nReseña \nKaori es una niña que se forma en el oficio de ceramista guiada por su abuelo Yamato en una zona rural de Japón. Un día\, empiezan a aparecer unos polvos dorados que tienen vida propia y se transforman en distintas figuras. Sólo ella y su hermano pájaro\, Kui\, pueden verlos. \nAl ritmo de las estaciones\, los hermanos comienzan una aventura para comprender la presencia de las partículas de oro y logran descubrir el misterio gracias a las enseñanzas del abuelo con la cerámica y un arte ancestral: el kintsugi. \nValores \nGeneral: $7.000\nPersonas mayores: $5.000\nNiñas\, niños y estudiantes: $3.500 \nHorarios \nJueves: 19.30 hrs\nSábado y Domingo: 16.30 y 18.30 hrs \nFicha artística \nIdea original y guión Teatrocinema: Christian Aguilera\, Esteban Cerda\, Daniel Gallo y Julián Marras | Dirección general y elenco: Christian Aguilera\, Daniel Gallo y Julián Marras\nAsistencia de dirección: Laura Pizarro y Juan Carlos Zagal\nComposición e interpretación musical: Juan Carlos Zagal\nDirección de arte\, storyboard e ilustraciones: Vittorio Meschi\nAnimación digital: Francisco Vargas “Shhipp”\nDirección multimedia: Julián Marras\nDiseño y operación de iluminación: Luis Alcaide\nDiseño y operación de sonido: Alonso Orrego “Alonsonido”\nOperador de Video: Lucio González\nDiseño de Vestuario: Mónica Navarro\nConfección de Vestuario: Catalina Mosqueira\nDiseño y confección de máscaras: Cristián Mayorga\nRealización de Utilerías: Teatrocinema\nAsistencia de producción y logística: Natalia Rounza y Lucio González\nAsesoría multimedia: Pablo Mois\nProducción general: Teatrocinema \nCompra tu entrada ¿Aquí! \n  \n00000
URL:https://lamaquinamedio.com/evento/kaori/
LOCATION:GAM
CATEGORIES:Carousel de Eventos,Categoria 2
ATTACH;FMTTYPE=image/jpeg:https://lamaquinamedio.com/wp-content/uploads/2022/10/kaori.jpg
END:VEVENT
BEGIN:VEVENT
DTSTART;VALUE=DATE:20221026
DTEND;VALUE=DATE:20221031
DTSTAMP:20260422T121519
CREATED:20221023T160858Z
LAST-MODIFIED:20221024T141427Z
UID:50727-1666742400-1667174399@lamaquinamedio.com
SUMMARY:Diversidades
DESCRIPTION:Compañía \nLa Compañía de Danza Espiral es una agrupación artística chilena\, profesional e independiente\, fundada y dirigida por el coreógrafo artista chileno Patricio Bunster. Bajo su dirección la Compañía de Danza Espiral trabaja entre los años 2003 y 2006 – año de su deceso – en la reposición de gran parte de su legado coreográfico y hoy su repertorio consta de 11 obras de diverso formato de su fundador y 25 de otros coreógrafos y coreógrafas tanto nacionales como internacionales\, jóvenes como consagrados/as. Desde su constitución la compañía ha realizado montajes trascendentales para el contexto de la danza nacional tanto por su valor patrimonial e histórico como por la consecuencia de estos con dos de los objetivos que definen su misión: recrear\, mantener y difundir el legado coreográfico de Patricio Bunster\, ser una instancia profesional para la experimentación\, creación y difusión de jóvenes intérpretes\, coreógrafos y coreógrafas nacionales\, \nDurante 19 años la compañía integrada por un elenco estable de 17 intérpretes ha realizado una extensa labor de difusión de la danza a través de funciones y talleres a lo largo del país las que han contribuido a generar nuevas audiencias y han fomentado el interés en niñas\, niños y jóvenes por la práctica de la danza y por estudios superiores en esta disciplina artística contribuyendo a incrementar la cantidad de profesionales de danza en Chile\, particularmente de profesores y profesoras en las distintas regiones del país. \nReseña \n“Diversidades”\, que contiene obras conformadas por coreografías de gran\, mediano y pequeño formato pertenecientes al vasto repertorio del artista\, en las que conviven propuestas de creadores de reconocida trayectoria nacional e internacional\, así como trabajos de nuevos coreógrafos y coreógrafas de la actual escena nacional. Este incluirá coreografías de Claude Brumachon\, Cristian Hewitt\, Victor Soto\, Pamela Moraga\, David Correa\, Eduardo Zuñiga y Patricio Bunster. \nPrecio \nGeneral: $7.000 \nEstudiante y tercera edad: $4.000 \nJueves popular: $4.000 \nHorarios \nMiércoles a sábado: 20:30 hrs \nDomingo: 19:30 hrs \nFicha artística \nIntérpretes \nRocío Espejo\, Daniela Le Bert\, Valeska Castillo\, Celeste Ormazábal\, Catalina Rojo\, David Correa\, Víctor Vásquez\, Eric Alcota\, Cristian Hewitt\, Roxana Salinas\, Víctor Soto\, Diego González\, Rodrigo Sepúlveda\, Iván Díaz\, Raúl Ordenes\, Yasna Vergara\, Natalia Herrera\, Belén Leiva\, Camila Villaseca \nReposición obras de gran formato Patricio Bunster: Yasna Vergara\nDirección de escena y asistente de producción: Verónica Ciriza\nDiseño lumínico e iluminador Diversidades: Enrique Fierro\nDiseño lumínico obras Patricio Bunster: Luis Reinoso\nOperador de audio: Luciano Nilo\nDirección y producción: Manuela Bunster. \nCompra tu entrada ¿Aquí! \n00000
URL:https://lamaquinamedio.com/evento/diversidades/
LOCATION:M100\, Matucana\, 100\, Chile
CATEGORIES:Carousel de Eventos,Categoria 2
ATTACH;FMTTYPE=image/jpeg:https://lamaquinamedio.com/wp-content/uploads/2022/10/PATRICIO-BUNSTER-M100.jpg
END:VEVENT
END:VCALENDAR