BEGIN:VCALENDAR
VERSION:2.0
PRODID:-//La Máquina Medio - ECPv6.0.1.1//NONSGML v1.0//EN
CALSCALE:GREGORIAN
METHOD:PUBLISH
X-ORIGINAL-URL:https://lamaquinamedio.com
X-WR-CALDESC:Eventos para La Máquina Medio
REFRESH-INTERVAL;VALUE=DURATION:PT1H
X-Robots-Tag:noindex
X-PUBLISHED-TTL:PT1H
BEGIN:VTIMEZONE
TZID:America/Santiago
BEGIN:STANDARD
TZOFFSETFROM:-0300
TZOFFSETTO:-0400
TZNAME:-04
DTSTART:20220403T030000
END:STANDARD
BEGIN:DAYLIGHT
TZOFFSETFROM:-0400
TZOFFSETTO:-0300
TZNAME:-03
DTSTART:20220911T040000
END:DAYLIGHT
END:VTIMEZONE
BEGIN:VEVENT
DTSTART;VALUE=DATE:20221116
DTEND;VALUE=DATE:20221117
DTSTAMP:20260421T030235
CREATED:20221116T193104Z
LAST-MODIFIED:20221116T193104Z
UID:51140-1668556800-1668643199@lamaquinamedio.com
SUMMARY:Olympic Black & Filgueira + Dj Alfreedelic
DESCRIPTION:Bar el Clan\, presenta a llamativa banda de Indie Rock\, activa desde 2018 en Santiago de Chile\, cuando publicaron su EP debut “About a Dream”. Entregándonos reminiscencias de reconocidas bandas como Foals\, Phoenix\, la banda chilena se arriesga desde un comienzo a relucir líricas en inglés\, creando un importante relato que se centra en cómo lidiar con las presiones sociales\, situaciones deprimentes dentro de la adolescencia y adultez\, además de actitudes poco positivas para nuestra sociedad. Hoy\, tras la publicación del «Mix-Tape Quarantine» en 2021\, la banda ha comenzado el camino promocional hacia su nuevo álbum “Come With Us”. La banda compartirá escenario con Filgueira\, el proyecto solista de Renzo Navia Filgueira que se caracteriza por la fuerte melancolía de sus letras y la mezcla de sonidos andinos y electrónicos. Este 2020 fue el promisorio debut del artista\, quien lanzó tres sencillos titulados “Nada será en vano”\, “Maleza” y “Excursionista” los cuales han tenido una gran recepción de la prensa y el público chileno e internacional. \nMiércoles 18 noviembre\nApertura: 22:00hrs. \nValores \nPreventa $6.000 + cps\nGeneral $8.000 + cps \nCompra tu entrada ¡Aquí! \n00000
URL:https://lamaquinamedio.com/evento/olympic-black-filgueira-dj-alfreedelic/
LOCATION:Bar El Clan\, Bombero Nuñez 363. Barrio Bellavista\, Santiago\, Chile
CATEGORIES:Carousel de Eventos
ATTACH;FMTTYPE=image/jpeg:https://lamaquinamedio.com/wp-content/uploads/2022/11/El-Clan.jpg
END:VEVENT
END:VCALENDAR