BEGIN:VCALENDAR
VERSION:2.0
PRODID:-//La Máquina Medio - ECPv6.0.1.1//NONSGML v1.0//EN
CALSCALE:GREGORIAN
METHOD:PUBLISH
X-WR-CALNAME:La Máquina Medio
X-ORIGINAL-URL:https://lamaquinamedio.com
X-WR-CALDESC:Eventos para La Máquina Medio
REFRESH-INTERVAL;VALUE=DURATION:PT1H
X-Robots-Tag:noindex
X-PUBLISHED-TTL:PT1H
BEGIN:VTIMEZONE
TZID:America/Santiago
BEGIN:STANDARD
TZOFFSETFROM:-0300
TZOFFSETTO:-0400
TZNAME:-04
DTSTART:20220403T030000
END:STANDARD
BEGIN:DAYLIGHT
TZOFFSETFROM:-0400
TZOFFSETTO:-0300
TZNAME:-03
DTSTART:20220911T040000
END:DAYLIGHT
END:VTIMEZONE
BEGIN:VEVENT
DTSTART;VALUE=DATE:20221202
DTEND;VALUE=DATE:20221203
DTSTAMP:20260420T233926
CREATED:20221205T004804Z
LAST-MODIFIED:20221205T004804Z
UID:51252-1669939200-1670025599@lamaquinamedio.com
SUMMARY:CASERIO: AURA BAE Y DJ LIZZ
DESCRIPTION:Aura Bae estará presentando su último lanzamiento titulado “UNU” y Dj Lizz traerá sus mejores setlist y mezclas en esta fiesta aniversario. \nAURA BAE: Artista santiaguina que propone un concepto sonoro que combina los sonidos urbanos actuales con su influencia de la escuela flamenca\, en líricas que viajan desde el relato espiritual al empoderamiento femenino y el desenfado de entregarse a la experiencia de vivir. Aura busca ante todo plasmar su versatilidad\, fusionando su conocimiento musical sobre los sonidos actuales\, entregando una propuesta diferente y única que se adapta a la escena urbana actual. \nDJ LIZZ: Co-fundadora de Neoperreo\, el nuevo sub-género del reggaeton. Hasta la fecha ha tocado en los festivales más importantes del mundo como Ultra Festival\, EDC MEX\, Cabuland\, Lollapalooza\, entre otros. Única residente latina oficial de Rinse FM (una de las radios más importantes de Europa). Ha compartido escenario con artistas de talla como Pablo Chill-e hasta Daddy Yankee. \nActualmente\, posee un EP\, varios singles y se encuentra promocionando su primer álbum “Spiritual Romantika”. \nHorarios\nViernes 2 – 22:00h \nValores\nPreventa 1: $6.000\nPreventa 2: $8.000\nGeneral: $10.000 \n+18 \nCompra tu entrada ¡Aquí! \n00000
URL:https://lamaquinamedio.com/evento/caserio-aura-bae-y-dj-lizz/
LOCATION:M100\, Matucana\, 100\, Chile
CATEGORIES:Carousel de Eventos
ATTACH;FMTTYPE=image/webp:https://lamaquinamedio.com/wp-content/uploads/2022/12/CASERIO.webp
END:VEVENT
BEGIN:VEVENT
DTSTART;VALUE=DATE:20221210
DTEND;VALUE=DATE:20221212
DTSTAMP:20260420T233926
CREATED:20221205T005724Z
LAST-MODIFIED:20221205T005724Z
UID:51257-1670630400-1670803199@lamaquinamedio.com
SUMMARY:GUAYPES CLUB ESPECIAL DE NAVIDAD
DESCRIPTION:MATUCANA 100\, nos presenta a Guaypes Club es una innovadora propuesta de trap y reggaetón interpretado por marionetas\, con letras con perspectiva de género y conciencia del medio ambiente. Su música resulta una novedosa fusión entre ritmos urbanos y sonoridades del folclor latinoamericano. Con un. sonido lleno de color\, Guaypes Club presenta una novedosa propuesta nacional\, donde destaca canciones como “Niñas al poder”\, “Me gusta escoger” y “Familiar Distintas”. \nEl objetivo de este show es presentar el especial de navidad del grupo Guaypes Club\, banda musical conformada por los títeres Traperita\, Mr. Guay-p y Mopita. Guaypes Club desarrolla su trabajo musical en colaboración de la agencia y sello discográfico Somos Persona\, parte de IMI Chile y colaboradores activos en el desarrollo de artistas emergentes nacionales\, trabajo que ha permitido aportar en el crecimiento de la cultura musical nacional. \nHorario\nSábado y domingo: 12:00h \nPrecios\nGeneral Adulto: $8.000\nGeneral Niñe: $5.000\nPromoción Adulto + Niñe: $12.000 \nLugar\nHuerta M100 \nCompra tu entrada ¡Aquí! \n00000
URL:https://lamaquinamedio.com/evento/guaypes-club-especial-de-navidad/
LOCATION:M100\, Matucana\, 100\, Chile
CATEGORIES:Carousel de Eventos
ATTACH;FMTTYPE=image/webp:https://lamaquinamedio.com/wp-content/uploads/2022/12/GuaypesClub.webp
END:VEVENT
END:VCALENDAR