BEGIN:VCALENDAR
VERSION:2.0
PRODID:-//La Máquina Medio - ECPv6.0.1.1//NONSGML v1.0//EN
CALSCALE:GREGORIAN
METHOD:PUBLISH
X-ORIGINAL-URL:https://lamaquinamedio.com
X-WR-CALDESC:Eventos para La Máquina Medio
REFRESH-INTERVAL;VALUE=DURATION:PT1H
X-Robots-Tag:noindex
X-PUBLISHED-TTL:PT1H
BEGIN:VTIMEZONE
TZID:America/Santiago
BEGIN:STANDARD
TZOFFSETFROM:-0300
TZOFFSETTO:-0400
TZNAME:-04
DTSTART:20220403T030000
END:STANDARD
BEGIN:DAYLIGHT
TZOFFSETFROM:-0400
TZOFFSETTO:-0300
TZNAME:-03
DTSTART:20220911T040000
END:DAYLIGHT
END:VTIMEZONE
BEGIN:VEVENT
DTSTART;VALUE=DATE:20221201
DTEND;VALUE=DATE:20221219
DTSTAMP:20260424T094647
CREATED:20221205T023809Z
LAST-MODIFIED:20221205T023809Z
UID:51266-1669852800-1671407999@lamaquinamedio.com
SUMMARY:DAS KAPITAL
DESCRIPTION:La Comedia Negra de FUGITIVA PRODUCCIONES\, nos trae la historia de William\, un empleado público que ansía la compra de un auto para poder pasear con su familia. Para esto\, llega a la automotora de Brito\, un vendedor de vasta experiencia y amor por los autos. En este encuentro\, William se verá enfrentado a un despiadado vendedor que utilizará toda sus artimañas y manipulaciones psicológicas para vender “su auto antiguo” en vez de uno nuevo. En estas circunstancias se desencadenan los diálogos a lo largo de las escenas donde poco a poco aparece la complicidad entre los personajes y sus deseos. \nCompañía  \nFUGITIVA PRODUCCIONES: Nace EL 2020 producto de la experiencia de su director Angel Solovera con el trabajo de dos compañías en los últimos 15 años. Teatro Cinema dirigida por Juan Carlos Zagal y Laura Pizzaro y al Sur del Viento\, dirigida por Alejandro Goic. Su trabajo desde la técnica (iluminación y Sonido) y producción son los pilares fundamentales para la creación del su primer montaje DAS KAPITAL. Una obra teatral es una partitura musical\, en donde cada elemento\, el sonido\, la iluminación\, la actuación son los encargados del relato. Fugitiva producciones\, produce música y la multimedia. Actualmente se encuentran en periodo de estudio en investigación para su próximo montaje que será un thriller policial\, basado en una historia del detective Heredia\, de Ramón Díaz Eterovic. \nHorarios \nJueves a domingo – 20h \nValor entrada \nGeneral: $6.000\nEstudiante y 3ra edad: $3.000\nMiércoles y jueves popular: $4.000 \n*Promo 2×1: Compra dos entradas al precio de una para que disfrutes el teatro en compañía (tickets limitados). \nFicha artística  \nAutor: Benjamin Galemiri | Dirección y Música: Angel Solovera | Dirección de actores: Edinson Diaz | Técnico: Alexandra Molina García | Compañía: FUGITIVA PRODUCCIONES. \n+12 \nCompra tu entrada ¡Aquí! \n00000
URL:https://lamaquinamedio.com/evento/das-kapital/
LOCATION:M100\, Matucana\, 100\, Chile
CATEGORIES:Carousel de Eventos
ATTACH;FMTTYPE=image/jpeg:https://lamaquinamedio.com/wp-content/uploads/2022/12/Cabecera-WEB-1920x600-das-kapital.jpg
END:VEVENT
BEGIN:VEVENT
DTSTART;VALUE=DATE:20221214
DTEND;VALUE=DATE:20221219
DTSTAMP:20260424T094647
CREATED:20221205T022648Z
LAST-MODIFIED:20221205T022648Z
UID:51261-1670976000-1671407999@lamaquinamedio.com
SUMMARY:Susurros del viento
DESCRIPTION:El viento es como un movimiento impredecible que nos trae los cambios en sus susurros ¿los escuchamos? Esta danza es un tiempo para escucharlo. Un lugar en donde el viento nos trae el derrumbe\, la batalla\, la muerte y la resurrección. Donde una familia puede volver a encontrarse y hacer presente su memoria. Donde al dejar caer\, aparece lo que es y resonamos como un tejido siendo llevados hacia el rito que todo lo transforma. Y donde al sentir el viento que trae el cambio de nuevo\, nos ofrece abrazar y ser abrazadx como una verdad de amor que todo lo llena en este presente. \nCompañía  \nLa Compañía Movimiento cumple 25 años de trayectoria e intenso trabajo en la creación y difusión de la Danza Contemporánea. Su fundación data a partir del estreno de la obra Los Ruegos\, dirigida por los franceses Claude Brumachon y Benjamín Lamarche en 1997\, hoy considerada patrimonio coreográfico de nuestro país. Los integrantes de la compañía son destacados profesionales de la danza chilena y en conjunto han realizado más de 10 montajes y múltiples giras nacionales e internacionales. Sus obras abordan temáticas sociales y humanas\, como una manera de descubrir y rescatar la esencia y riqueza de nuestra cultura. Hoy celebran sus 25 años con un nuevo estreno en homenaje al pensador chileno Gastón Soublette. \nHorarios \nMiércoles a sábado – 20:30 h\nDomingo – 19:30 h \nFicha artística \nDirección y coreografía: Carolina Bravo\nIntérpretes: Teresa Alcaíno\, Natasha Torres\, Vilma Jiménez\, Magdalena Bahamondes\, Andrés Maulén\, César Cisternas\, Cristián Hewitt\nColaboración especial y voz: José Tomás Olavarría\nDiseño Integral: Katiuska Valenzuela\nCreación y producción musical: Benjamín del Río\nProductor: Francisco López\nRegistro audiovisual: Juan Pablo Garretón\nFotografía: Cristina Wood\nAsistente de Diseño: Tatiana Pimentel. \n+12 \nEntradas bajo sistema “Paga lo que puedas”: $3.000\, $5.000\, $7.000. Valores que puedes escoger al momento de tu compra según tus posibilidades. \nCompra tu entrada ¡Aquí! \n00000
URL:https://lamaquinamedio.com/evento/susurros-del-viento/
LOCATION:M100\, Matucana\, 100\, Chile
CATEGORIES:Carousel de Eventos
ATTACH;FMTTYPE=image/jpeg:https://lamaquinamedio.com/wp-content/uploads/2022/12/ImagCabecera_1920x600_Susurrosdelviento-1.jpg
END:VEVENT
END:VCALENDAR