BEGIN:VCALENDAR
VERSION:2.0
PRODID:-//La Máquina Medio - ECPv6.0.1.1//NONSGML v1.0//EN
CALSCALE:GREGORIAN
METHOD:PUBLISH
X-ORIGINAL-URL:https://lamaquinamedio.com
X-WR-CALDESC:Eventos para La Máquina Medio
REFRESH-INTERVAL;VALUE=DURATION:PT1H
X-Robots-Tag:noindex
X-PUBLISHED-TTL:PT1H
BEGIN:VTIMEZONE
TZID:America/Santiago
BEGIN:STANDARD
TZOFFSETFROM:-0300
TZOFFSETTO:-0400
TZNAME:-04
DTSTART:20220403T030000
END:STANDARD
BEGIN:DAYLIGHT
TZOFFSETFROM:-0400
TZOFFSETTO:-0300
TZNAME:-03
DTSTART:20220911T040000
END:DAYLIGHT
END:VTIMEZONE
BEGIN:VEVENT
DTSTART;VALUE=DATE:20221029
DTEND;VALUE=DATE:20221120
DTSTAMP:20260424T112528
CREATED:20221103T172600Z
LAST-MODIFIED:20221103T172600Z
UID:50958-1667001600-1668902399@lamaquinamedio.com
SUMMARY:PLAZER
DESCRIPTION:Colectivo en Puja \nCuerpos libres de estereotipos es lo que trae “Plazer”\, obra del Colectivo en Puja que instala el placer como un derecho humano. Con un elenco que apunta a la diversidad generacional\, el montaje busca instalar una propuesta crítica y reflexiva\, contribuir a la construcción de una sociedad desde el respeto y la empatía y valorar el entorno con una mirada desde la danza\, la música y el audiovisual. \nValores \nGeneral: $ 5.000\nAdules Mayores y Estudiantes: $2.000 \nHorarios \nJueves a sábado: 18:45 hrs \nFicha artística \nIdea original y dirección: Rocío Argandoña Torres\nAsistencia de Dirección: Loreto Caviedes Jeria\nInvestigación: Camila Serrano Acevedo\nAccesibilidad Universal: Asociación Crea\nIntérpretes: Carmen Aros Ramírez\, Marcela Cerda Aguirre\, Consuelo Cerda Monje\, Diego Ramos Medina\, Javier Muñoz Máximo\nIntérprete en lengua de señas: Macarena Nieto Ramírez\nIntérprete de audio descripción: Harobed Ramírez Fernandez\nComposición musical: Tito Cerda Ríos\nRealización audiovisual: Valeria Ortiz de la Tabla Chávez\nDiseño escénico: Daniela Portillo y Cristóbal Ramos\nDiseño y manejo de iluminación: Susana Belmar Lecaros\nProducción: Ana María García Ramírez\nPeriodista: Claudia Palominos. \nCompra tu entrada ¡Aquí! \n00000
URL:https://lamaquinamedio.com/evento/plazer/
LOCATION:GAM
CATEGORIES:Carousel de Eventos
ATTACH;FMTTYPE=image/jpeg:https://lamaquinamedio.com/wp-content/uploads/2022/11/plazer.jpg
END:VEVENT
BEGIN:VEVENT
DTSTART;VALUE=DATE:20221103
DTEND;VALUE=DATE:20221125
DTSTAMP:20260424T112528
CREATED:20221103T173619Z
LAST-MODIFIED:20221103T173619Z
UID:50962-1667433600-1669334399@lamaquinamedio.com
SUMMARY:NÓMADES
DESCRIPTION:Dos hombres aguardan en una habitación miserable\, que ni siquiera cuenta con lo indispensable para hacer café\, mientras pasan el rato discutiendo sobre fútbol y titulares del diario. A medida que avanza el diálogo\, advertimos que se trata de dos sicarios que pasan el tiempo en diferentes lugares\, a la espera de recibir llamadas telefónicas para acatar órdenes.\nLa propuesta escénica de NÓMADES lleva al espectador a convertirse en un observador desapasionado de la realidad y lo invita a esperar junto a estos dos asesinos. En la habitación\, ellos se sienten a salvo\, aunque esta misma certeza los pone nerviosos ante cualquier signo de intrusión. Al rato\, el lugar empieza a verse intervenido por acciones externas que amenazan la seguridad del espacio.\nInspirada en El Montaplatos de Harold Pinter\, este montaje busca situar las problemáticas de la época en el Chile de hoy\, sumido en el vicio de la corrupción y de las apariencias; y donde han aparecido delitos antes no registrados como el secuestro\, la extorsión y el sicariato. \nValores \nGeneral: $7.000 \nHorarios \nJueves: 20:00 hrs \nFicha artística \nDirección: Eduardo Morales\nActuaciones: Ismael Castellón – Fernando Torres Alvarez \nCompra tu entrada ¡Aquí! \n00000
URL:https://lamaquinamedio.com/evento/nomades/
LOCATION:Teatro Bellavista\, Dardignac 0110\, Providencia\, Santiago\, Chile
CATEGORIES:Carousel de Eventos
ATTACH;FMTTYPE=image/jpeg:https://lamaquinamedio.com/wp-content/uploads/2022/11/NOMADES_2-1024x682-1.jpeg
END:VEVENT
BEGIN:VEVENT
DTSTART;VALUE=DATE:20221105
DTEND;VALUE=DATE:20221121
DTSTAMP:20260424T112528
CREATED:20221103T180021Z
LAST-MODIFIED:20221103T180021Z
UID:50970-1667606400-1668988799@lamaquinamedio.com
SUMMARY:Espíritu
DESCRIPTION:Compañía \nTeatro Anónimo \nReseña \nUn recorrido nocturno por una ciudad cualquiera muestra a individuos anónimos marcados por una crisis espiritual producto del consumismo desenfrenado del modelo neoliberal. La falta de respuestas que trasciendan al dinero y la oferta de bienes materiales\, llevará a tres poetas a desear encontrar el mal oculto que habita en la ciudad y apresarlo en una botella.\nLa obra reflexiona sobre el malestar que aqueja a las sociedades contemporáneas\, abordando el tema desde un lugar poético. El montaje presenta varias historias distintas con múltiples personajes interpretados por dos actores y una actriz\, un ritmo dinámico y un lenguaje que mezcla humor y drama. Diálogos\, monólogos\, bailes\, coros barrocos y canciones de atmósfera electrónica interpretadas por el elenco en vivo\, van narrando la crisis de una sociedad que ha olvidado el cultivo del espíritu. \nValores \nGeneral: $11.000 \nHorarios \nViernes y sábado 20:30 hrs\nDomingo 19:00 hrs \n(Excepto domingo 13 de noviembre) \nFicha artística \nAutor: Trinidad González\nDirección: Trinidad González\nCompañía: Teatro Anónimo\nDiseño integral: Nicole Needham\nMúsica: Tomás González\nTécnico en sonido: Joaquín Alvear\nProducción: Horacio Pérez\nElenco: Trinidad González\, Tomás González\, Matteo Citarella \nDuración: 80 min\nEdad recomendada: + 14 años \nCompra tu entrada ¡Aquí! \n00000
URL:https://lamaquinamedio.com/evento/espiritu/
LOCATION:Mori Recoleta\, Bellavista 77. Recoleta
CATEGORIES:Carousel de Eventos,Categoria 2
ATTACH;FMTTYPE=image/jpeg:https://lamaquinamedio.com/wp-content/uploads/2022/11/espiritu.jpg
END:VEVENT
BEGIN:VEVENT
DTSTART;VALUE=DATE:20221105
DTEND;VALUE=DATE:20221121
DTSTAMP:20260424T112528
CREATED:20221103T183020Z
LAST-MODIFIED:20221103T183020Z
UID:50974-1667606400-1668988799@lamaquinamedio.com
SUMMARY:EN TODA ALMA HAY UNA MARCA OSCURA QUE ES NECESARIO OCULTAR
DESCRIPTION:En toda alma hay una marca oscura que es necesario ocultar\, es una obra coral\, tectónica\, friccionada\, cíclica\, como olas que cabalgan hacia la costa. Sus protagonistas\, vecinos de un pueblo costero\, narran fragmentos de una catástrofe\, réplicas especulativas sobre cómo las fuerzas de la naturaleza transforman los proyectos sociales y políticos del alcalde del pueblo. \nLa obra es el resultado de una investigación escénica ganadora de la Ibsen Scope Grant\, que exploró la presencia de fuerzas no humanas en la obra “Los pilares de la sociedad” de Henrik Ibsen. ¿Qué ocurre si dejamos de pensar la naturaleza como un escenario pasivo del drama humano y le otorgamos también capacidad de acción? ¿Por qué los desastres naturales se convierten en catástrofes humanas? \nEn la obra\, indagamos cómo los fenómenos y desastres naturales\, poderosas influencias no humanas\, cuestionan la soberanía humana sobre el planeta y cómo esta mirada puede transformar nuestra forma de habitar la tierra\, en un momento donde el deterioro profundo de los ecosistemas pone en riesgo la existencia de nuestra propia especie y de miles de otras. \nEn este momento de crisis climática global\, En toda alma hay una marca oscura que es necesario ocultar\, vuelca su mirada hacia aquellos elementos y agencias cuya existencia no han sido más que telones de fondo en los proyectos sociales\, económicos y políticos. \nValores \nGeneral: $6.000\nEstudiantes y tercera edad: $3.000\nMiércoles y jueves popular: $3.000 \nHorarios \nMiércoles a sábado: 20:00 hrs\nDomingo: 19:00 hrs \nFicha artística \nDirector: Nicolás Espinoza\nDramaturgo: Juan Pablo Troncoso\nElenco: María Paz Grandjean\, Veronica Medel\, Rafael Contreras\nDiseño Integral: Catalina Devia | Diseño Audiovisual: Pablo Mois\nUniverso Sonoro: Federico Palma\nProducción: Coté Duran\nAsistente de Producción: Lynda Mebtouche\nAsesoría Teórica: CIGIDEN\nDiseño Sonoro: Daniel Marabolí\nComunicaciones: Fogata Cultura\nFotografías: Daniel Corvillón\nDiseño Gráfico: Javier Pañella. \nCompra tu entrada ¡Aquí! \n00000
URL:https://lamaquinamedio.com/evento/en-toda-alma-hay-una-marca-oscura-que-es-necesario-ocultar/
LOCATION:M100\, Matucana\, 100\, Chile
CATEGORIES:Carousel de Eventos,Categoria 2
ATTACH;FMTTYPE=image/jpeg:https://lamaquinamedio.com/wp-content/uploads/2022/11/Cabecera-WEB-1920x600-COLLAGE.jpg
END:VEVENT
BEGIN:VEVENT
DTSTART;VALUE=DATE:20221109
DTEND;VALUE=DATE:20221125
DTSTAMP:20260424T112528
CREATED:20221109T180220Z
LAST-MODIFIED:20221109T180220Z
UID:51071-1667952000-1669334399@lamaquinamedio.com
SUMMARY:Cada vez que digo mamá
DESCRIPTION:Reseña \nLa obra cuenta la historia de la primera vez que Sara conoce a su madre. Este impulso de querer acordar una conversación entre madre e hija después de veinte años de ausencia no es casual\, ya que la mejor amiga de la protagonista es quien insiste con la simple idea de que toda persona debe saber cuál o dónde es su origen. \nEs así como Sara necesita las respuestas y emprende este viaje\, dado que\, hasta ahora\, solo ha construido la imagen de su madre por medio de cartas. \nEl montaje propone converger el rescate de la memoria y la reconstrucción de una verdad\, por medio de una investigación testimonial y la recopilación epistolar. Así mismo\, busca reflexionar sobre las interrogantes que aluden a ser madre en diferentes contextos históricos\, sociales y geográficos\, junto a estas tres mujeres intérpretes entre madre\, hija y abuela. \nUna puesta en escena que llega a lo más íntimo de una relación madre e hija y que no dejará indiferente al público. \nValores \nGeneral: $7.000 + cargo\nEstudiantes: $4.000 + cargo \nHorarios \nMiércoles y jueves – 20:00h \nFicha artística \nDramaturgia: Daniel Henríquez\nDirección: Jaime Guzmán Brantes\nActrices: Shlomit Baytelman Albala\, Carolina Larenas Henríquez\, Alejandra Díaz Scharager\nDiseño escénico: Koke Velis\nComposición musical e intérprete: Rodrigo Belmar\nVestuario y peinados: Fabián Torres\nProducción General: Moisés Norambuena Nachari\nProducción en terreno: Marisol López\nComunicaciones: Agencia Rizomas \nCompra tu entrada ¡Aquí! \n00000
URL:https://lamaquinamedio.com/evento/cada-vez-que-digo-mama/
LOCATION:Teatro Ictus\, Merced\, 349. Santiago\, Santiago\, Chile
CATEGORIES:Carousel de Eventos,Categoria 1
ATTACH;FMTTYPE=image/jpeg:https://lamaquinamedio.com/wp-content/uploads/2022/11/Post.jpeg
END:VEVENT
BEGIN:VEVENT
DTSTART;VALUE=DATE:20221118
DTEND;VALUE=DATE:20221119
DTSTAMP:20260424T112528
CREATED:20221109T173309Z
LAST-MODIFIED:20221109T173309Z
UID:51065-1668729600-1668815999@lamaquinamedio.com
SUMMARY:IN THE MOOD FOR LOVE
DESCRIPTION:Sinopsis \nHong Kong\, 1962. Chow\, redactor jefe de un diario local\, se muda con su mujer a un edificio habitado principalmente por residentes de Shanghai. Allí conoce a Li-zhen\, una joven que acaba de instalarse en el mismo edificio con su esposo. Ella es secretaria de una empresa de exportación y su marido está continuamente de viaje de negocios. Como la mujer de Chow también está casi siempre fuera de casa\, Li-zhen y Chow pasan cada vez más tiempo juntos y se hacen muy amigos. Un día\, ambos descubrirán algo inesperado sobre sus respectivos cónyuges. (FILMAFFINITY) \nHorarios \nViernes 18 de noviembre – 20:45h \nValores\n \nEntrada General $4.000.\nEstudiantes y Tercera Edad $3.000.- \nFicha Técnica \nTítulo original: Fa yeung nin wa (In the Mood for Love)\nAño: 2000\nDuración: 95 min.\nPaís: Hong Kong\nDirección: Wong Kar-Wai\nGuion: Wong Kar-Wai\nMúsica: Michael Galasso\nFotografía: Christopher Doyle\, Mark Lee\nReparto: Tony Leung Chiu-Wai\, Maggie Cheung\, Rebecca Pan\, Siu Ping-Lam\, Mama Hung\, Chan Man-Lei\, Koo Kam-Wah\, Yu Hsien\, Chow Po-Chun\, Joe Cheung\, Kelly Lai\nProductora: Coproducción Hong Kong-Francia; Block 2 Pictures\, Paradis Films\, Jet Tone Production\nGénero: Romance. Drama \nCompra tu entrada ¡Aquí! \n00000
URL:https://lamaquinamedio.com/evento/in-the-mood-for-love/
LOCATION:Centro Arte Alameda\, Arturo Prat\, 33. Santiago\, Santiago\, Chile
CATEGORIES:Carousel de Eventos
ATTACH;FMTTYPE=image/jpeg:https://lamaquinamedio.com/wp-content/uploads/2022/11/in-the-mood-for-love-centro-arte-alameda-sala-ceina-133905-min.jpg
END:VEVENT
BEGIN:VEVENT
DTSTART;VALUE=DATE:20221118
DTEND;VALUE=DATE:20221119
DTSTAMP:20260424T112528
CREATED:20221116T194455Z
LAST-MODIFIED:20221116T194455Z
UID:51149-1668729600-1668815999@lamaquinamedio.com
SUMMARY:Portal Astral: Derrok + Elektrompe + Kalo + Dj Inti Kunza
DESCRIPTION:Bar El Clan\, te invita a comenzar el fin de semana con una nueva versión del Portal Astral para los amantes de la música electrónica y orgánica\, un viaje a las sensaciones a través de los sonidos del mundo. En esta oportunidad están invitados Derrok\, Elektrompe\, Kalo y Dj Inti Kunza. \nViernes 18 noviembre\nApertura: 22:00hrs. \nValores \nPreventa $8.000 + cps\nGeneral $10.000 + cps \nCompra tu entrada ¡Aquí! \n00000
URL:https://lamaquinamedio.com/evento/portal-astral-derrok-elektrompe-kalo-dj-inti-kunza/
LOCATION:Bar El Clan\, Bombero Nuñez 363. Barrio Bellavista\, Santiago\, Chile
CATEGORIES:Carousel de Eventos
ATTACH;FMTTYPE=image/jpeg:https://lamaquinamedio.com/wp-content/uploads/2022/11/797.jpg
END:VEVENT
END:VCALENDAR