BEGIN:VCALENDAR
VERSION:2.0
PRODID:-//La Máquina Medio - ECPv6.0.1.1//NONSGML v1.0//EN
CALSCALE:GREGORIAN
METHOD:PUBLISH
X-WR-CALNAME:La Máquina Medio
X-ORIGINAL-URL:https://lamaquinamedio.com
X-WR-CALDESC:Eventos para La Máquina Medio
REFRESH-INTERVAL;VALUE=DURATION:PT1H
X-Robots-Tag:noindex
X-PUBLISHED-TTL:PT1H
BEGIN:VTIMEZONE
TZID:America/Santiago
BEGIN:STANDARD
TZOFFSETFROM:-0300
TZOFFSETTO:-0400
TZNAME:-04
DTSTART:20220403T030000
END:STANDARD
BEGIN:DAYLIGHT
TZOFFSETFROM:-0400
TZOFFSETTO:-0300
TZNAME:-03
DTSTART:20220911T040000
END:DAYLIGHT
END:VTIMEZONE
BEGIN:VEVENT
DTSTART;VALUE=DATE:20221110
DTEND;VALUE=DATE:20221111
DTSTAMP:20260420T224900
CREATED:20221109T171045Z
LAST-MODIFIED:20221109T171045Z
UID:51054-1668038400-1668124799@lamaquinamedio.com
SUMMARY:CHUNGKING EXPRESS
DESCRIPTION:Sinopsis  \nDos historias de amor independientes que se desarrollan en el popular barrio turístico de Tsimshatsui\, en Hong Kong. La primera describe el fugaz encuentro entre un joven policía en plena crisis amorosa y una misteriosa mujer fatal traficante de drogas. La segunda se centra en el singular romance entre un solitario y sencillo agente de policía y la joven camarera del pobre bar donde aquél suele comer. \nHorarios \nJueves 10 de noviembre 20:30 h \nValores  \nValores\n \nEntrada General $4.000.\nEstudiantes y Tercera Edad $3.000.- \nFicha técnica \nTítulo original: Chung Hing sam lam (Chungking Express)\nDirección y guión: Wong Kar-Wai\nMúsica: Frankie Chan\, Roel A. García\, Michael Galasso\nFotografía: Christopher Doyle\, Andrew Lau\nReparto: Brigitte Lin\, Takeshi Kaneshiro\, Tony Leung Chiu-Wai\, Faye Wong\, Valerie Chow\, Chen Jinquan\, Vickie Eng\, Lynne Langdon \nCompra tu entrada ¡Aquí! \n00000
URL:https://lamaquinamedio.com/evento/chungking-express/
LOCATION:Centro Arte Alameda\, Arturo Prat\, 33. Santiago\, Santiago\, Chile
CATEGORIES:Carousel de Eventos
ATTACH;FMTTYPE=image/jpeg:https://lamaquinamedio.com/wp-content/uploads/2022/11/chungking-express-centro-arte-alameda-sala-ceina-133136-min.jpg
END:VEVENT
BEGIN:VEVENT
DTSTART;VALUE=DATE:20221110
DTEND;VALUE=DATE:20221116
DTSTAMP:20260420T224900
CREATED:20221109T170151Z
LAST-MODIFIED:20221109T171301Z
UID:51047-1668038400-1668556799@lamaquinamedio.com
SUMMARY:THE WONDER
DESCRIPTION:Sinopsis  \nRegión irlandesa de las Midlands\, 1862. Una niña deja de comer pero permanece\nmilagrosamente viva y en buen estado. La enfermera inglesa Lib Wright es llevada a un\npequeño pueblo para observar a Anna O’Donnell\, de once años. Abundantes turistas y\nperegrinos se reúnen para contemplar a la niña que\, según se dice\, ha sobrevivido sin comer\ndurante meses. ¿Acaso alberga el pueblo a una santa que «sobrevive con el maná del cielo» o\nexisten motivos más siniestros? \nHorarios  \nJueves 10 de noviembre – 16:30h\nViernes 11 de noviembre – 21:00h\nSábado 12 de noviembre – 21:00h\nLunes 14 de noviembre– 18:15h\nMartes 15 de noviembre – 21:00h \nValores\n \nEntrada General $4.000.\nEstudiantes y Tercera Edad $3.000.- \nFicha Técnica \nAño: 2022\nDuración: 108 min.\nPaís: Irlanda\nDirección: Sebastián Lelio\nGuion: Alice Birch\, Sebastián Lelio. Novela: Emma Donoghue\nMúsica: Mathew Herbert\nFotografía: Ari Wegner\nReparto: Florence Pugh\, Tom Burke\, Kíla Lord Cassidy\, Niamh Algar\, Ciarán Hinds\, Toby\nJones\, Elaine Cassidy\, Brian F. O’Byrne\, David Wilmot\, Dermot Crowley\, Josie Walker\, Mary\nMurray \nCompra tu entrada ¡Aquí! \n00000
URL:https://lamaquinamedio.com/evento/the-wonder/
LOCATION:Centro Arte Alameda\, Arturo Prat\, 33. Santiago\, Santiago\, Chile
CATEGORIES:Carousel de Eventos
ATTACH;FMTTYPE=image/jpeg:https://lamaquinamedio.com/wp-content/uploads/2022/11/the-wonder-centro-arte-alameda-sala-ceina-133928-min.jpg
END:VEVENT
END:VCALENDAR