BEGIN:VCALENDAR
VERSION:2.0
PRODID:-//La Máquina Medio - ECPv6.0.1.1//NONSGML v1.0//EN
CALSCALE:GREGORIAN
METHOD:PUBLISH
X-WR-CALNAME:La Máquina Medio
X-ORIGINAL-URL:https://lamaquinamedio.com
X-WR-CALDESC:Eventos para La Máquina Medio
REFRESH-INTERVAL;VALUE=DURATION:PT1H
X-Robots-Tag:noindex
X-PUBLISHED-TTL:PT1H
BEGIN:VTIMEZONE
TZID:America/Santiago
BEGIN:STANDARD
TZOFFSETFROM:-0300
TZOFFSETTO:-0400
TZNAME:-04
DTSTART:20220403T030000
END:STANDARD
BEGIN:DAYLIGHT
TZOFFSETFROM:-0400
TZOFFSETTO:-0300
TZNAME:-03
DTSTART:20220911T040000
END:DAYLIGHT
END:VTIMEZONE
BEGIN:VEVENT
DTSTART;VALUE=DATE:20221109
DTEND;VALUE=DATE:20221110
DTSTAMP:20260420T210418
CREATED:20221109T143724Z
LAST-MODIFIED:20221109T143724Z
UID:51034-1667952000-1668038399@lamaquinamedio.com
SUMMARY:CHAO CARBÓN
DESCRIPTION:Sinopsis \nMr. Aes Gener es un codicioso mega empresario del rubro de la energía. A través de su relato nos adentramos en los sucios negocios que ha hecho en Chile y el mundo con el carbón\, mientras vemos\, a través de imágenes de archivo\, el daño a las personas y la naturaleza de este combustible fósil obsoleto y contaminante. \nHorario \nMiércoles 9 de noviembre a las 19:00 hrs \nFicha técnica  \nTitulo Chao Carbón\nDirección Zeta Fernández y Ladislao Palma\nGénero Documental\nPaís Chile\nAño 2022\nDuración 23 minutos \nPuedes adquirir tu ticket ¡Aquí! \n  \n00000
URL:https://lamaquinamedio.com/evento/chao-carbon/
LOCATION:Centro Arte Alameda\, Arturo Prat\, 33. Santiago\, Santiago\, Chile
CATEGORIES:Carousel de Eventos,Categoria 1
ATTACH;FMTTYPE=image/jpeg:https://lamaquinamedio.com/wp-content/uploads/2022/11/chao-carbon-centro-arte-alameda-sala-ceina-133938-img.jpg
END:VEVENT
BEGIN:VEVENT
DTSTART;VALUE=DATE:20221110
DTEND;VALUE=DATE:20221111
DTSTAMP:20260420T210418
CREATED:20221109T171045Z
LAST-MODIFIED:20221109T171045Z
UID:51054-1668038400-1668124799@lamaquinamedio.com
SUMMARY:CHUNGKING EXPRESS
DESCRIPTION:Sinopsis  \nDos historias de amor independientes que se desarrollan en el popular barrio turístico de Tsimshatsui\, en Hong Kong. La primera describe el fugaz encuentro entre un joven policía en plena crisis amorosa y una misteriosa mujer fatal traficante de drogas. La segunda se centra en el singular romance entre un solitario y sencillo agente de policía y la joven camarera del pobre bar donde aquél suele comer. \nHorarios \nJueves 10 de noviembre 20:30 h \nValores  \nValores\n \nEntrada General $4.000.\nEstudiantes y Tercera Edad $3.000.- \nFicha técnica \nTítulo original: Chung Hing sam lam (Chungking Express)\nDirección y guión: Wong Kar-Wai\nMúsica: Frankie Chan\, Roel A. García\, Michael Galasso\nFotografía: Christopher Doyle\, Andrew Lau\nReparto: Brigitte Lin\, Takeshi Kaneshiro\, Tony Leung Chiu-Wai\, Faye Wong\, Valerie Chow\, Chen Jinquan\, Vickie Eng\, Lynne Langdon \nCompra tu entrada ¡Aquí! \n00000
URL:https://lamaquinamedio.com/evento/chungking-express/
LOCATION:Centro Arte Alameda\, Arturo Prat\, 33. Santiago\, Santiago\, Chile
CATEGORIES:Carousel de Eventos
ATTACH;FMTTYPE=image/jpeg:https://lamaquinamedio.com/wp-content/uploads/2022/11/chungking-express-centro-arte-alameda-sala-ceina-133136-min.jpg
END:VEVENT
BEGIN:VEVENT
DTSTART;VALUE=DATE:20221110
DTEND;VALUE=DATE:20221116
DTSTAMP:20260420T210418
CREATED:20221109T170151Z
LAST-MODIFIED:20221109T171301Z
UID:51047-1668038400-1668556799@lamaquinamedio.com
SUMMARY:THE WONDER
DESCRIPTION:Sinopsis  \nRegión irlandesa de las Midlands\, 1862. Una niña deja de comer pero permanece\nmilagrosamente viva y en buen estado. La enfermera inglesa Lib Wright es llevada a un\npequeño pueblo para observar a Anna O’Donnell\, de once años. Abundantes turistas y\nperegrinos se reúnen para contemplar a la niña que\, según se dice\, ha sobrevivido sin comer\ndurante meses. ¿Acaso alberga el pueblo a una santa que «sobrevive con el maná del cielo» o\nexisten motivos más siniestros? \nHorarios  \nJueves 10 de noviembre – 16:30h\nViernes 11 de noviembre – 21:00h\nSábado 12 de noviembre – 21:00h\nLunes 14 de noviembre– 18:15h\nMartes 15 de noviembre – 21:00h \nValores\n \nEntrada General $4.000.\nEstudiantes y Tercera Edad $3.000.- \nFicha Técnica \nAño: 2022\nDuración: 108 min.\nPaís: Irlanda\nDirección: Sebastián Lelio\nGuion: Alice Birch\, Sebastián Lelio. Novela: Emma Donoghue\nMúsica: Mathew Herbert\nFotografía: Ari Wegner\nReparto: Florence Pugh\, Tom Burke\, Kíla Lord Cassidy\, Niamh Algar\, Ciarán Hinds\, Toby\nJones\, Elaine Cassidy\, Brian F. O’Byrne\, David Wilmot\, Dermot Crowley\, Josie Walker\, Mary\nMurray \nCompra tu entrada ¡Aquí! \n00000
URL:https://lamaquinamedio.com/evento/the-wonder/
LOCATION:Centro Arte Alameda\, Arturo Prat\, 33. Santiago\, Santiago\, Chile
CATEGORIES:Carousel de Eventos
ATTACH;FMTTYPE=image/jpeg:https://lamaquinamedio.com/wp-content/uploads/2022/11/the-wonder-centro-arte-alameda-sala-ceina-133928-min.jpg
END:VEVENT
BEGIN:VEVENT
DTSTART;VALUE=DATE:20221113
DTEND;VALUE=DATE:20221114
DTSTAMP:20260420T210418
CREATED:20221109T171951Z
LAST-MODIFIED:20221109T171951Z
UID:51059-1668297600-1668383999@lamaquinamedio.com
SUMMARY:FALLEN ANGELS
DESCRIPTION:Sinopsis \nLeon Lai es un asesino a sueldo cansado de su trabajo que se plantea dejarlo. Michelle Reis es una prostituta que\, además de buscarles los encargos\, le hace el trabajo sucio a Leon. Pero ella vive apasionadamente enamorada de él\, aunque nunca se hayan conocido en persona.\nEl desamarrado gran angular de Christopher Doyle induce ensueños de género en esta pieza estilísticamente iconoclasta que acompaña a Chungking Express. Restaurada y presentada por primera vez en CinemaScope\, esta es la obra maestra de Wong Kar Wai como nunca antes la habías visto. \nHorarios  \nDomingo 13 de noviembre – 18:15h \nValores\n \nEntrada General $4.000.\nEstudiantes y Tercera Edad $3.000.- \nFicha técnica \nTítulo original: Duo luo tian shi (Fallen Angels)\nDirección y Guión:Wong Kar-Wai\nMúsica: Frankie Chan\, Roel A. García\nFotografía: Christopher Doyle\nReparto: Leon Lai\, Michelle Reis\, Takeshi Kaneshiro\, Charlie Yeung\, Karen Mok\, Chan Fai-Hung\, Chan Man-Lei\, Toru Saito\, Benz Kong \nCompra tu entrada ¡Aquí! \n00000
URL:https://lamaquinamedio.com/evento/fallen-angels/
LOCATION:Centro Arte Alameda\, Arturo Prat\, 33. Santiago\, Santiago\, Chile
CATEGORIES:Carousel de Eventos
ATTACH;FMTTYPE=image/jpeg:https://lamaquinamedio.com/wp-content/uploads/2022/11/fallen-angels-centro-arte-alameda-sala-ceina-133149-min.jpg
END:VEVENT
BEGIN:VEVENT
DTSTART;VALUE=DATE:20221115
DTEND;VALUE=DATE:20221116
DTSTAMP:20260420T210418
CREATED:20221109T172650Z
LAST-MODIFIED:20221109T172650Z
UID:51062-1668470400-1668556799@lamaquinamedio.com
SUMMARY:HAPPY TOGETHER
DESCRIPTION:Sinopsis \nLai Yiu-Kai y Ho Po-Wing viven una apasionada relación. Viajan desde Hong Kong a Argentina\, pero la llegada al nuevo país parece transformar las cosas y Ho\, de repente\, abandona a Lai. Éste comienza a trabajar como portero de un bar\, con el único afán de reunir el dinero suficiente para volver a su país. Un día Ho reaparece\, pero las cosas ya no son iguales… \nHorarios \nMartes 15 de noviembre – 19:15h \nValores\n \nEntrada General $4.000.\nEstudiantes y Tercera Edad $3.000.- \nFicha técnica \nTítulo original: Chun gwong tsa sit (Happy Together)aka\nAño: 1997\nDuración: 98 min.\nPaís: Hong Kong\nDirección: Wong Kar-Wai\nGuion: Wong Kar-Wai\nMúsica: Danny Chung\nFotografía: Christopher Doyle\nReparto: Leslie Cheung\, Tony Leung Chiu-Wai\, Gregory Dayton\, Chang Chen\, Shirley Kwan\nProductora: Block 2 Pictures\, Jet Tone Production\, Prénom H Co\, Seowoo Film Company\nGénero: Romance. Drama \nCompra tu entrada ¡Aquí! \n00000
URL:https://lamaquinamedio.com/evento/happy-together/
CATEGORIES:Carousel de Eventos
ATTACH;FMTTYPE=image/jpeg:https://lamaquinamedio.com/wp-content/uploads/2022/11/happy-together-centro-arte-alameda-sala-ceina-133904-min.jpg
END:VEVENT
BEGIN:VEVENT
DTSTART;VALUE=DATE:20221118
DTEND;VALUE=DATE:20221119
DTSTAMP:20260420T210418
CREATED:20221109T173309Z
LAST-MODIFIED:20221109T173309Z
UID:51065-1668729600-1668815999@lamaquinamedio.com
SUMMARY:IN THE MOOD FOR LOVE
DESCRIPTION:Sinopsis \nHong Kong\, 1962. Chow\, redactor jefe de un diario local\, se muda con su mujer a un edificio habitado principalmente por residentes de Shanghai. Allí conoce a Li-zhen\, una joven que acaba de instalarse en el mismo edificio con su esposo. Ella es secretaria de una empresa de exportación y su marido está continuamente de viaje de negocios. Como la mujer de Chow también está casi siempre fuera de casa\, Li-zhen y Chow pasan cada vez más tiempo juntos y se hacen muy amigos. Un día\, ambos descubrirán algo inesperado sobre sus respectivos cónyuges. (FILMAFFINITY) \nHorarios \nViernes 18 de noviembre – 20:45h \nValores\n \nEntrada General $4.000.\nEstudiantes y Tercera Edad $3.000.- \nFicha Técnica \nTítulo original: Fa yeung nin wa (In the Mood for Love)\nAño: 2000\nDuración: 95 min.\nPaís: Hong Kong\nDirección: Wong Kar-Wai\nGuion: Wong Kar-Wai\nMúsica: Michael Galasso\nFotografía: Christopher Doyle\, Mark Lee\nReparto: Tony Leung Chiu-Wai\, Maggie Cheung\, Rebecca Pan\, Siu Ping-Lam\, Mama Hung\, Chan Man-Lei\, Koo Kam-Wah\, Yu Hsien\, Chow Po-Chun\, Joe Cheung\, Kelly Lai\nProductora: Coproducción Hong Kong-Francia; Block 2 Pictures\, Paradis Films\, Jet Tone Production\nGénero: Romance. Drama \nCompra tu entrada ¡Aquí! \n00000
URL:https://lamaquinamedio.com/evento/in-the-mood-for-love/
LOCATION:Centro Arte Alameda\, Arturo Prat\, 33. Santiago\, Santiago\, Chile
CATEGORIES:Carousel de Eventos
ATTACH;FMTTYPE=image/jpeg:https://lamaquinamedio.com/wp-content/uploads/2022/11/in-the-mood-for-love-centro-arte-alameda-sala-ceina-133905-min.jpg
END:VEVENT
BEGIN:VEVENT
DTSTART;VALUE=DATE:20221121
DTEND;VALUE=DATE:20221122
DTSTAMP:20260420T210418
CREATED:20221109T140714Z
LAST-MODIFIED:20221109T140715Z
UID:51026-1668988800-1669075199@lamaquinamedio.com
SUMMARY:Anto Bosman (en vivo)
DESCRIPTION:La cantante y actriz Anto Bosman está a pocos días de realizar su show mas grande como solista. Después de su exitosa performance en la Teletón\, la artista se presentará el lunes 21 de noviembre en el Centro Arte Alameda – Sala CEINA. a las 19:00 hrs En la ocasión tendrá como invitados a varios exponentes del pop y la música urbana como Ceaese\, Esteza\, Bvsti\, Gigi Caro y Killua97\, además de la actriz Vivi Dietz. Las últimas entradas para el concierto están disponibles en Passline \nAcerca de los intensos preparativos de su show\, Anto Bosman comenta: “empezamos los ensayos en México hace varias semanas junto a mi pareja\, Pato Arratia\, quien es mi coreógrafo y director de movimiento. Este es un show con alta exigencia\, y estamos trabajando muy duro. Es algo que he querido hacer desde que tengo memoria: hay banda en vivo\, bailarines\, visuales\, cambios de vestuario\, entre muchas otras sorpresas. Será tremendo”. \nPara este día tan especial\, Anto Bosman contará con varios invitados. La encargada de iniciar la jornada será la cantante Gigi Caro\, quien viene de abrir el concierto de Tini en Chile. Después la solista subirá a escena al reconocido Ceaese\, cantará un flamante estreno con Bvsti\, luego convocará a Esteza\, -que acaba de pasar por Creamfields-\, y hará dúo con Killua97 cantando “Para ya no verte”\, uno de sus temas más escuchados. \nEl sábado pasado\, Anto Bosman se presentó en la Teletón. La cantante mostró sus canciones “Carediosa” y “Hielo” e impactó a los asistentes por su talento y belleza: “es uno de los escenarios más importantes en que he estado y fue hermoso sentir el cariño del público y de todas las personas que estábamos ahí para aportar con nuestro trabajo. Fue una experiencia de mucho aprendizaje. Estoy muy agradecida que me hayan pedido aportar desde mi arte\, mi música”\, dice ella. \nLa agenda de Anto Bosman no se detiene ahí\, ya que en los primeros días de diciembre revelará un ambicioso proyecto que la tiene muy entusiasmada. Se trata de una trilogía de canciones R&B que serán presentadas como un cortometraje dividido en tres videos\, los cuales se grabaron en México: “deseo experimentar un poco más allá de lo tradicional o de lo acostumbrado. Este proyecto me tiene muy emocionada y espero que les guste tanto como a mí”\, confiesa la artista. \nCompra tu entrada ¡Aquí! \n00000
URL:https://lamaquinamedio.com/evento/anto-bosman-en-vivo/
LOCATION:Centro Arte Alameda\, Arturo Prat\, 33. Santiago\, Santiago\, Chile
CATEGORIES:Carousel de Eventos
ATTACH;FMTTYPE=image/jpeg:https://lamaquinamedio.com/wp-content/uploads/2022/11/unnamed.jpg
END:VEVENT
BEGIN:VEVENT
DTSTART;VALUE=DATE:20221122
DTEND;VALUE=DATE:20221123
DTSTAMP:20260420T210418
CREATED:20221109T174004Z
LAST-MODIFIED:20221109T174004Z
UID:51068-1669075200-1669161599@lamaquinamedio.com
SUMMARY:2046
DESCRIPTION:Sinopsis \nUn escritor que creía escribir sobre el futuro\, en realidad estaba escribiendo sobre el pasado. En su novela\, un misterioso tren salía de cuando en cuando con dirección al año 2046. Todos los que subían a él lo hacían con el mismo propósito: recobrar los recuerdos perdidos. Se decía que en 2046 nada cambiaba. Nadie sabía a ciencia cierta si eso era verdad\, porque ninguno de los que viajaron regresó jamás. Con una excepción. Él estuvo allí. Se marchó voluntariamente. Quería cambiar. \nHorarios \nMartes 22 de noviembre – 20:45h \nValores\n \nEntrada General $4.000.\nEstudiantes y Tercera Edad $3.000.- \nFicha Técnica \nTítulo original: 2046\nAño: 2004\nDuración: 120 min.\nPaís: Hong Kong\nDirección: Wong Kar-Wai\nGuion: Wong Kar-Wai\nMúsica: Peer Raben\, Shigeru Umebayashi\nFotografía: Christopher Doyle\, Lai Yiu-Fai\, Kwan Pun-Leung\nReparto: Tony Leung Chiu-Wai\, Zhang Ziyi\, Faye Wong\, Gong Li\, Takuya Kimura\, Chang Chen\, Maggie Cheung\, Siu Ping-Lam\, Carina Lau\, Angela Dong\nProductora: Block 2 Pictures\, Paradis Films\, Orly Films\, Jet Tone Production\nGénero: Romance. Drama. Ciencia ficción | Drama romántico. Años 60. Literatura. Secuela. Película de culto \nCompra tu entrada ¡Aquí! \n  \n00000
URL:https://lamaquinamedio.com/evento/2046/
LOCATION:Centro Arte Alameda\, Arturo Prat\, 33. Santiago\, Santiago\, Chile
CATEGORIES:Carousel de Eventos
ATTACH;FMTTYPE=image/jpeg:https://lamaquinamedio.com/wp-content/uploads/2022/11/2046-centro-arte-alameda-sala-ceina-133906-min.jpg
END:VEVENT
END:VCALENDAR