BEGIN:VCALENDAR
VERSION:2.0
PRODID:-//La Máquina Medio - ECPv6.0.1.1//NONSGML v1.0//EN
CALSCALE:GREGORIAN
METHOD:PUBLISH
X-ORIGINAL-URL:https://lamaquinamedio.com
X-WR-CALDESC:Eventos para La Máquina Medio
REFRESH-INTERVAL;VALUE=DURATION:PT1H
X-Robots-Tag:noindex
X-PUBLISHED-TTL:PT1H
BEGIN:VTIMEZONE
TZID:America/Santiago
BEGIN:STANDARD
TZOFFSETFROM:-0300
TZOFFSETTO:-0400
TZNAME:-04
DTSTART:20220403T030000
END:STANDARD
BEGIN:DAYLIGHT
TZOFFSETFROM:-0400
TZOFFSETTO:-0300
TZNAME:-03
DTSTART:20220911T040000
END:DAYLIGHT
END:VTIMEZONE
BEGIN:VEVENT
DTSTART;VALUE=DATE:20221219
DTEND;VALUE=DATE:20221222
DTSTAMP:20260422T004907
CREATED:20221220T200723Z
LAST-MODIFIED:20221220T200723Z
UID:51345-1671408000-1671667199@lamaquinamedio.com
SUMMARY:Háblame en señas y el fuego aparecerá
DESCRIPTION:El gran estreno familiar e inclusivo que llega a Espacio Taller \n“Háblame en señas y el fuego aparecerá” es un montaje familiar inclusivo que une la lengua de señas chilena con el dispositivo del radio teatro\, combinando además efectos audiovisuales y que nace como propuesta entre ambas entidades con el objetivo de descentralizar los espacios creativos y con ello el teatro\, conectando así a 2 regiones (Metropolitana – Tarapacá) para que de forma conjunta se lleve a cabo este montaje\, teniendo como foco principal levantar nuevas audiencias y llegar a un público especialmente de personas sordas y ciegas\, pero más que todo\, que verdaderamente sea una puesta en escena para todo espectador y que mejor que a través del  teatro\, sea quien reúna a todas esas personas en un mismo espacio. \nLa dramaturgia de este proyecto se obtuvo a través de un concurso público y abierto a toda la comunidad de la región de Tarapacá\, con el objetivo de que esta coproducción también convoque a artistas locales y se genere esa sinergia de poder en conjunto levantar un montaje teatral regionalista e inclusivo. Fue así que como ganadora resultó la dramaturga iquiqueña Carolina Astudillo Núñez\, quien es autora del texto y que fue adaptado por la directora de la obra. \nAcompañado de una serie de imágenes\, música y videos\, además de diversos elementos que lxs intérpretes van proponiendo dentro de la puesta en escena\, es la parte fundamental de esta experiencia que vivirá todo el público a nivel sensorial e imaginario\, donde los protagonistas terminan siendo cada uno de los espectadores guiadxs y acompañadxs en todo momento de un gran elenco que durante este 2022 se ha preparado para esta linda experiencia y está compuesto por: Camila Velásquez\, Felipe Santibáñez\, Fabián Vergara y Jorge Salazar\, este último también actor iquiqueño\,  quienes son parte de la raíz de este colectivo que llega a Espacio Taller. \nHorarios \nLunes 19 de diciembre – 12:00h\nMartes 20 diciembre – 19:00h\nMiércoles 21 de diciembre – 19:00h\nDuración. 45 minutos \nPrecios \nGeneral $6.000\nEstudiante $4.000\nPersonas Adultes Mayores $3.000 \n \nFicha Artística \nUna producción de Agencia Rizomas\nDirección: Nancy Gómez (Intérprete oyente)\nAsistente de Dirección: Cristóbal Campeny  (Sordo Nativo)\nDramaturgia: Carolina Astudillo Núñez\nElenco: Camila Velásquez – Felipe Santibañez – Jorge Salazar- Fabián Vergara\nDiseño Escénico: Daniela Mardones\nEdición Radioteatro: Carlos Molina\nProductor: Gabriel Valenzuela (Agencia Rizomas)\nProducción audiovisual: Jordi Marcel (Agencia Rizomas)\nProducción General: Agencia y productora multimedia para las artes Rizomas. \nRecomendación: TE\, desde los 3 años. (Obra inclusiva en lengua de señas)\nSala Yolanda Hurtado\, Espacio Taller \nCompra tu entrada ¡Aquí! \n  \n00000
URL:https://lamaquinamedio.com/evento/hablame-en-senas-y-el-fuego-aparecera/
LOCATION:Espacio Taller\, Ernesto Pinto Lagarrigue 191\, Barrio Bellavista.\, Santiago\, Chile
CATEGORIES:Carousel de Eventos,Categoria 1
ATTACH;FMTTYPE=image/jpeg:https://lamaquinamedio.com/wp-content/uploads/2022/12/hablame.jpg
END:VEVENT
END:VCALENDAR